BEGIN:VCALENDAR
METHOD:PUBLISH
VERSION:2.0
PRODID:-//Eventilla iCal Syndication//NONSGML Liana//EN
BEGIN:VEVENT
UID:d1XJ0@eventilla.com
DTSTAMP:20220402T080000Z
DTSTART:20220402T080000Z
DTEND:20220402T120000Z
SUMMARY:Villa Gyllenberg
DESCRIPTION:Vierailu Villa Gyllenbergiin\nlauantaina 2.4. kello 11\nTutustumme antroposofina ja vapaamuurarina tunnetun liikemies Ane Gyllenbergin (1891–1977) elämään sekä hänen kotiinsa\, nykyään taidemuseona toimivaan Villa Gyllenbergiin ja museon pysyvään taidekokoelmaan.\nMuistathan ottaa mukaasi voimassa olevan pressikorttisi\, joka oikeuttaa vapaaseen pääsyyn museoon. Käynti on opastettu. Mukaan mahtuu 20 HSJ:n jäsentä.\nVilla Gyllenberg sijaitsee Helsingin Kuusisaaressa. Tarkemmat opasteet ja tietoja julkisen liikenteen yhteyksistä löydät Villa Gyllenbergin sivuilta. Museolla on myös oma pysäköintipaikka.\nVierailun järjestää HSJ:n Esoteriakerho.
LOCATION:Villa Gyllenberg\, Kuusisaarenpolku 11\, 00340\, Helsinki
URL:http://tapahtuma.hsj.fi/event/d1XJ0
END:VEVENT
END:VCALENDAR
