BEGIN:VCALENDAR
METHOD:PUBLISH
VERSION:2.0
PRODID:-//Eventilla iCal Syndication//NONSGML Liana//EN
BEGIN:VEVENT
UID:d40aY@eventilla.com
DTSTAMP:20250429T130000Z
DTSTART:20250429T130000Z
DTEND:20250429T143000Z
SUMMARY:Vierailu Uuteen Juttuun
DESCRIPTION:kuva: Sakari Piippo\nVierailu Uuteen Juttuun\ntiistaina 29.4. kello 16–17.30Lemuntie 3–5\, Helsinki\nTammikuussa aloittanut Uusi Juttu on suomalaisen mediakentän uusin tulokas\, joka lupaa välttää informaatioähkyä ja keskittyä olennaiseen.\nJatkuvan uutisvirran sijaan Uusi Juttu julkaisee arkipäivisin uutiskoosteen\, taustoittavan ohjelman sekä muutaman syventävän jutun. Helmikuussa aloitettiin myös säännöllinen kulttuuriohjelma. Kaikista jutuista on olemassa sekä kuunneltava että luettava versio. Lisäksi Uusi Juttu pyrkii käymään aktiivista keskustelua jäsentensä kanssa.\nUusi Juttu sai alkunsa joukkorahoituskampanjan ja tanskalaisen mediayhtiö Zetlandin tuella. Jäseniä eli tilauksia on tähän mennessä kertynyt yli 16 000\, ja 23 työntekijän tiimissä työskentelee varsin kokeneita journalisteja. \nMillaista on ollut perustaa uusi media? Ovatko odotukset ja tavoitteet täyttyneet? Mikä on päässyt yllättämään? Entä millaisia tulevaisuuden suunnitelmia toimituksessa punotaan?\nTervetuloa Helsingin Seudun Journalistien vierailulle Uuteen Juttuun! Pääsemme tapaamaan toimituksen väkeä\, ihastelemaan uusia tiloja sekä tietysti keskustelemaan journalismista.\nVierailulle mahtuu mukaan 25 HSJ:läistä ja se on jäsenille maksuton.\nIlmoittaudu mukaan viimeistään 25.4. \n \nLämpimästi tervetuloa!\n 
LOCATION:Lemuntie 3–5\, 00510\, Helsinki\, Suomi
URL:http://tapahtuma.hsj.fi/uusijuttu
END:VEVENT
END:VCALENDAR
