BEGIN:VCALENDAR
METHOD:PUBLISH
VERSION:2.0
PRODID:-//Eventilla iCal Syndication//NONSGML Liana//EN
BEGIN:VEVENT
UID:d4lb7@eventilla.com
DTSTAMP:20250612T140000Z
DTSTART:20250612T140000Z
DTEND:20250612T160000Z
SUMMARY:Journalistiliiton kesätyöntekijätreffit
DESCRIPTION:Journalistiliiton kesätyöntekijätreffit\ntorstaina 12.6. klo 17 alkaenPermantosali\, Tekstin talo\, Lintulahdenkatu 3\, Helsinki\n \nHyvä media-alan kesätyöläinen tai harjoittelija\, olet lämpimästi tervetullut Journalistiliiton kesätyöntekijätreffeille Tekstin taloon!\nRento illanviettomme ravitsee mieltä ja kupua. Vaihda kokemuksia kollegojen kanssa ja ota haltuun omat oikeutesi kesätyösuhteen alussa.\nHUOM. OHJELMAMUUTOS: Vieraaksi saamme Ylioppilaslehden päätoimittaja Roosa Wellingin\, joka on työskennellyt aiemmin Helsingin Sanomissa useissa eri kesätoimittaja- ja määräaikaisuuspätkissä. 26-vuotias Welling on valmistunut Tampereen yliopistosta pääaineenaan journalistiikka. Millaista evästystä hän antaisi uransa alussa oleville mediatyöläisille? Wellingiä haastattelee toimittaja Reetta Malmberg.\nYlioppilaslehden päätoimittaja Roosa Welling\nJournalistiliiton opiskelijalähettiläs Satu Hurme kertoo\, mitä kesätyösuhteen tai harjoittelun alkaessa on syytä ottaa huomioon. Kuulemme esimerkiksi alan työehtoihin\, tekijänoikeuksiin ja työsopimuksiin liittyvistä asioista. Tule jututtamaan myös Journalistiliiton ja sen jäsenyhdistysten tyyppejä – alan ammattijärjestönä olemme paikalla sinua varten.\nIllan ohjelma:\n17.00 Ovet aukeavat\, tarjolla juotavaa ja pientä syötävää\n17.30 Avaussanat ja esittäytyminen\n17.45 Haastattelussa päätoimittaja Roosa Welling\n18.30 Journalistiliiton vinkit kesätyösuhteeseen\n19.00 Vapaata seurustelua\, Bar Tÿpo palvelee\n \nTarjoamme ensimmäisen juoman ja pientä syötävää. Virallisen ohjelman jälkeen ilta jatkuu vapaamuotoisen seurustelun merkeissä Bar Tÿpon puolella\, joka on auki kello 23 saakka.\nTilaisuus on maksuton ja avoin kaikille media-alan kesätyöntekijöille \, harjoittelijoille ja alan opiskelijoille. Sinun ei tarvitse olla Journalistiliiton jäsen osallistuaksesi tapahtumaan.\nOta kaverisi mukaan ja varaa paikkasi pian! Mukaan mahtuu 70 osallistujaa.\nIlmoittautuminen päättyy 9.6.\n \n \n\nIllanvieton järjestävät yhteistyössä Journalistiliitto\, Helsingin Seudun Journalistit HSJ ry ja Radio- ja televisiotoimittajien liitto RTTL ry.Journalistiliitto neuvottelee media- ja kustannusalan työehtosopimukset\, ajaa freelancerien asemaa ja vaikuttaa aktiivisesti mediapolitiikkaan ja sananvapauskysymyksiin. Journalistiliiton jäsenenä kuulut aina myös johonkin liiton jäsenyhdistyksistä.\n
LOCATION:Tekstin talo\, Lintulahdenkatu 3\, 00530\, Helsinki\, Suomi
URL:http://tapahtuma.hsj.fi/kesatyo25
END:VEVENT
END:VCALENDAR
