BEGIN:VCALENDAR
METHOD:PUBLISH
VERSION:2.0
PRODID:-//Eventilla iCal Syndication//NONSGML Liana//EN
BEGIN:VEVENT
UID:eK171@eventilla.com
DTSTAMP:20220916T021500Z
DTSTART:20220916T021500Z
DTEND:20220918T190000Z
SUMMARY:Ahvenanmaan matka
DESCRIPTION:HSJ:n matka Ahvenanmaalle 16.–18.9.\nIlmoittautuminen päättyy tiistaina 21.6. kello 15. Paikkoja on 20 HSJ:n jäsenelle. Jos ilmoittautujia on enemmän kuin paikkoja\, osallistujat arvotaan.\nLähde retkelle Ahvenanmaalle! HSJ:n matkalla tutustustutaan muun muassa saaren 100-vuotiaaseen itsehallinnon perinteeseen ja paikallisiin elinkeinoihin herkuttelua ja vapaa-aikaa unohtamatta. Lauantaina 17.9. kiertelemme saarta ja osallistumme Ahvenanmaan suosituimpaan tapahtumaan eli Skördefestiin!\nMatkan hinta\nMatkan jäsenhinta on 200 euroa\, mikä sisältää bussi- ja laivamatkat\, kahden yön hotellimajoituksen sekä seuraavat ateriat:\n16.9. aamiainen laivalla ja päivällinen Maarianhaminassa\, 17.9. aamiainen hotellilla\, 18.9. aamiainen hotellilla ja buffet-ateria laivalla. Matkaan sisältyy siis myös omakustanteisia ruokailuja.\n200 euron osallistumismaksuun sisältyy vähintään 40 prosentin tuki HSJ:lta\, joten matkan todelliset kulut ovat jäsenhintaa suuremmat.\nMatkat\nAikataulusyistä matkaamme Maarianhaminaan Turusta\, joten lähtö Helsingistä on perjantaina aamuvarhain. Matkassa meillä on kuitenkin oma bussi ja kuski\, joten matkustaminen on huoletonta. Alukset ovat Viking Grace ja uusi Viking Glory. Laivalta on varattu mennen tullen muutamia hyttejä matkatavaroita\, ostoksia ja miksei myös lepoa varten.\nMikäli sinulla on Viking Linen etukortti\, voit ilmoittaa sen numeron ilmoittautumislomakkeessa. Numero välitetään Viking Linelle osallistujalistan luovuttamisen yhteydessä.\nMajoitus\nMajoitumme Maarianhaminassa Strandnäs Hotellissa. Hotelli sijaitsee rauhallisella alueella n. kaksi kilometria kaupungin keskustasta. Hotellin huoneet ovat hiljattain remontoituja.\nMatkan hintaan kuuluu majoitus 2 hengen twin-huoneissa aamupalalla. Yhden hengen huoneita saatavilla rajoitetusti. Yhden hengen huoneesta veloitetaan lisähinta 24 euroa matkan maksun yhteydessä.\nMikäli toivot yhden hengen huonetta\, merkitse se ilmoittautumislomakkeeseen. Lisätietona ilmoittautumiseen voidaan merkitä myös toive majoittumisesta samaan huoneeseen ystävän kanssa (toinen matkalle ilmoittautuva HSJ:n jäsen).\nOhjelma\nMatkan tarkka ohjelma ja aikataulu vahvistetaan elokuussa. Ohessa alustava matkasuunnitelma:\nPerjantai 16.9.\n\nLähtö Helsingistä linja-autolla klo 5.15\nSaapuminen Turun satamaan klo 7.30\nSiirtyminen Viking Gracelle. Meriaamianen kello 8.30 alkaen. Laivan lähtöaika on klo 8.45.\nLaiva saapuu Maarianhaminaan klo 14.10.\nVierailu Itsehallintotalolla ja tapaaminen maaneuvos Veronica Thörnroosin kanssa.\nCheck in ja majoittuminen Strandnäs Hotelliin.\nYhteinen illallinen Maarianhaminassa.\n\nLauantai 17.9.\n\nAamiainen hotellilla.\nBussi alle: retkipäivä & Skördefest!\nIlta vapaa.\n\nSunnuntai 18.9.\n\nAamiainen hotellilla.\nCheck out viimeistään klo 12.\nBussi laivalla noin kello 13.30. Viking Glory lähtee klo 14.25. Laivalla syysbuffet klo 14.30\, opastettu laivakierros klo 17.\nLaiva saapuu Turun satamaan klo 19.10.\nBussi takaisin Helsingissä klo 22 mennessä.\n\nMaksaminen\nVahvistus ja maksuohjeet matkasta toimitetaan sähköpostitse 22.6. Retki on maksettava heinäkuun loppuun mennessä.\nMatkaan liittyvät tiedustelut\nSähköpostitse Johannalle.\nHuom. Johanna on kesälomalla juhannuksesta elokuun alkuun saakka\, töissä elokuun 1. viikon\, lomalla 2. viikon ja sen jälkeen taas töissä normaalisti.\nTervetuloa!\n 
LOCATION:Ahvenanmaa
URL:http://tapahtuma.hsj.fi/event/eK171
END:VEVENT
END:VCALENDAR
