BEGIN:VCALENDAR
METHOD:PUBLISH
VERSION:2.0
PRODID:-//Eventilla iCal Syndication//NONSGML Liana//EN
BEGIN:VEVENT
UID:eK176@eventilla.com
DTSTAMP:20220406T140000Z
DTSTART:20220406T140000Z
DTEND:20220406T170000Z
SUMMARY:Instagram ja TikTok journalistin käytössä
DESCRIPTION:Instagram ja TikTok journalistin käytössä\nkeskiviikkona 6.4. klo 17–20\nOriginal Sokos Hotel Presidentti\, Eteläinen Rautatiekatu 4\, Helsinki\nOnko Instagram-julkaisuissa vain herkullisia ravintola-annoksia ja söpöjä koiranpentuja vai voisiko alustaa käyttää myös journalistisesti? Entä miten tavoittaa nuoret ja saada heidät luotettavien uutisten äärelle? Miten toimia ammatillisesti sosiaalisen median verkostoissa?\nPerehdymme koulutusillan aikana sosiaalisen median käyttöön Yle Kioskin toimittaja-tuottajan Marleena Lammikon ja Helsingin Sanomien toimittajan Anna-Sofia Bernerin avulla.\nYle Kioski on Yleisradion nuorille suuntaamaa sisältöä\, jolla ei ole ohjelmaa Ylen kanavilla\, vaan kaikki sisältö julkaistaan ainoastaan sosiaalisen median alustoilla. Marleena Lammikko korostaa koulutuksessaan\, miten sosiaalisessa mediassa kuten Instagramissa ja TikTokissa julkaistava journalistinen sisältö näyttäytyy nuorille yhtä uskottavana kuin perinteisten journalististen alustojen sisällöntuotanto. Tämä on tärkeää\, sillä nuoria on hyvin vaikea saada seuraamaan perinteisiä uutisia.\n\nHelsingin Sanomien toimittaja Anna-Sofia-Berner on kokenut Instagramin käyttäjä\, joka on rakentanut yleisösuhteen palvelun avulla. Toimittaja ei pelkästään anna tietoa seuraajille\, vaan saa myös näkökulmia\, ajatuksia ja palautetta verkostoltaan.\n\n \nInstagram ja TikTok -kurssilla opit:\n\nnäkemään uusia mahdollisuuksia sosiaalisen median ja journalismin yhdistämisessä\nmiten ottaa huomioon journalistin ohjeet somessa\nkuinka voi tavoittaa uusia yleisöjä\ntunnistamaan somen haasteita journalistisessa sisällöntuotannossa\nmiten yleisösuhdetta rakennetaan journalismin ohessa\nmitä hyötyä on siitä\, että toimittaja tekee työtään tutuksi ja läheiseksi\nkuinka ottaa vastaan kysymyksiä seuraajilta ja miten niihin vastataan\n\nTämä koulutus on maksullinen:\n\n 25 euroa työsuhteiset\, freelancerit\, eläkeläiset\n 10 euroa työttömät ja opiskelijat\n\nLippu valitaan ilmoittautumisen yhteydessä. Maksua varten tarvitset pankkitunnukset tai puhelimen mobiilipankkisovelluksen.\nHSJ tukee jäsentensä osallistumista maksullisiin koulutuksiin ja tapahtumiin vähintään 40 prosentilla. Muistathan\, että työnantajalta voi tiedustella osallistumista ammatillisen koulutuksen kustannuksiin.\nJos kurssi tulee täyteen\, kannattaa ilmoittautua jonoon\, sillä jos jonottajia on tarpeeksi\, kurssi uusitaan syksyllä.\nKoronaohjeet: Käytämme tilaisuudessa maskia ja käsidesiä. Tiedotamme Hotelli Presidentin antamista koronaohjeista ilmoittautuneille. Jos koronatilanne muuttuu\, valmistaudumme pitämään tilaisuuden etänä tai siirtämään sen sopivaan ajankohtaan.\nTervetuloa!
LOCATION:Sokos Hotel Presidentti\, Eteläinen Rautatiekatu 4\, 00100\,
 Helsinki
URL:http://tapahtuma.hsj.fi/event/eK176
END:VEVENT
END:VCALENDAR
