BEGIN:VCALENDAR
METHOD:PUBLISH
VERSION:2.0
PRODID:-//Eventilla iCal Syndication//NONSGML Liana//EN
BEGIN:VEVENT
UID:eK1vd@eventilla.com
DTSTAMP:20221129T120000Z
DTSTART:20221129T120000Z
DTEND:20221129T140000Z
SUMMARY:Lisää liksaa
DESCRIPTION:Lisää liksaa!\nHSJ:n ja SFJ:n palkkioiltapäivä freelancereille\nJournalistiliiton kokoushuone\, Säästöpankinranta 2\, Hakaniemi sekä etänä Teamsissa\nTiistaina 29.11. 14-16\nNyt on aika puhua rahasta!\nHelsingin Seudun Journalistit HSJ ja Suomen freelance-journalistit SFJ tarjoavat yhdessä kattavan koulutusiltapäivän alamme freelancereille. Kouluttaudumme ja käymme ajatuksenvaihtoa oikeudenmukaisista palkkioista nyt\, kun EU-komissio on linjannut itsensätyöllistävien kollektiivisesta sopimisoikeudesta.\nLisäksi käsittelemme freelancerin oman potentiaalin hyödyntämistä ja verkostoitumisen etuja. Plussana ajankohtaiset ja tärkeät tietoiskut uudesta sopimusmahdollisuudesta\, YEL-eläkelain uudistuksesta ja palkkiosuosituksista!\nTilaisuus on tarkoitettu freenä kokonaan tai osittain työskenteleville jäsenillemme\, opiskelijoille sekä free-uraa vasta suunnitteleville.\n\nLisää liksaa! -teoksen itsensätyöllistäville kirjoittaneet journalistit ja yrittäjät Rosanna Marila ja Sanna Wallenius\n\nopettavat freelancereita pitämään puolensa palkkioneuvotteluissa\nkannustavat hinnoittelemaan työn entistä reilummin\n\nOhjelmassa on myös SFJ:n va. toiminnanjohtaja Anna-Sofia Niemisen ja Journalistiliiton juristi Eveliina Tuomisen tärkeät tietoiskut:\n\nfreelancerien kollektiivisesta neuvotteluoikeudesta\nuudistuvasta YEL-lainsäädännöstä\nfreelancereiden palkkiosuosituksista\n\nVaraa paikkasi pian! Journalistiliiton kokoustilaan mahtuu vain 30 ensimmäistä ilmoittautujaa.\nLäsnäosallistujille tarjotaan myös mahdollisuus keskusteluun sekä iltapäiväkahvit. Kaikki livenä tai etänä osallistuvat saavat ale-koodin\, jolla voi lunastaa Lisää liksaa! -kirjan Alma Talentin verkkokaupasta. Kirjan tekijöillä on myytävänä myös muutama kirja live-tilaisuudessa.\nTilaisuuteen ei ole osallistumismaksua. \nTilaisuus on vain HSJ:n ja SFJ:n jäsenille.\nHUOM. Ilmoittautuminen livetilaisuuteen on päättynyt. Voit tiedustella peruutuspaikkaa HSJ:n toimistosta: johanna.sillanpaa@hsj.fi\nTilaisuuden loppuun jätetään aikaa keskustelulle\, johon on mahdollista osallistua vain livenä.\nTervetuloa!\n 
LOCATION:Journalistiliitto tai Teams\, Säästöpankinranta 2\, 00530\,
 Helsinki
URL:http://tapahtuma.hsj.fi/event/eK1vd
END:VEVENT
END:VCALENDAR
