BEGIN:VCALENDAR
METHOD:PUBLISH
VERSION:2.0
PRODID:-//Eventilla iCal Syndication//NONSGML Liana//EN
BEGIN:VEVENT
UID:eK7Q8@eventilla.com
DTSTAMP:20230912T143000Z
DTSTART:20230912T143000Z
DTEND:20230912T170000Z
SUMMARY:Ville Ranta ja arkaluontoiset aiheet
DESCRIPTION:Ville Ranta ja arkaluontoiset aiheet\ntiistaina 12.9. klo 17:30-20Bottan Tina-klubi\, Museokatu 10\, 3. krs\, Helsinki\nSarjakuvataiteilija ja pilapiirtäjä Ville Ranta on luonnehtinut suomalaista journalismia turhan varovaiseksi. Millaisista asioista emme uskalla puhua ja miksi? Mistä löytyisi rohkeutta hankalien aiheiden käsittelyyn?\nRanta palkittiin vuoden journalistina Iltalehteen tekemistään pilapiirroksista\, jotka kommentoivat ajankohtaisia tapahtumia purevan satiirin keinoin. Pilapiirtäjän pilkka osuu kaikkialle puoluekannasta\, sukupuolesta ja etnisyydestä riippumatta. Piirroksista loukkaannutaan herkästi ja niistä on tehty myös useita rikosilmoituksia. Miten palaute ja paine vaikuttavat työskentelyyn? Mistä löytyy sitkeys jatkaa ja millaista tukea siihen tarvitaan?\nTule kuuntelemaan\, kun Ville Ranta kertoo työhönsä liittyvistä kysymyksistä ja haasteista. Alustuksen jälkeen on aikaa vapaalle keskustelulle. HSJ tarjoaa lasillisen kurkun kostuketta\, ja baari on auki kello kahdeksaan saakka\, jolloin tilaisuus päättyy.\nTunnelmallinen Tina-klubi sijaitsee ravintola Bottan kolmannessa kerroksessa. Museokadun pääsisäänkäynniltä noustaan klubille portaita pitkin. Hissi löytyy Töölönkadun puoleiselta sisäänkäynniltä\, josta opasteet perille.\nTilaisuus on HSJ:n jäsenille maksuton. Ilmoittaudu viimeistään 31.8. Tervetuloa!\n \nKuva: Veikko Somerpuro
LOCATION:Bottan Tina-klubi\, Museokatu 10\, 00100\, Helsinki\, Suomi
URL:http://tapahtuma.hsj.fi/villeranta
END:VEVENT
END:VCALENDAR
