BEGIN:VCALENDAR
METHOD:PUBLISH
VERSION:2.0
PRODID:-//Eventilla iCal Syndication//NONSGML Liana//EN
BEGIN:VEVENT
UID:eKE96@eventilla.com
DTSTAMP:20240206T143000Z
DTSTART:20240206T143000Z
DTEND:20240206T170000Z
SUMMARY:Webinaari: Kuvatekoälyjen perusteet
DESCRIPTION:Kuvatekoälyjen perusteet\ntiistaina 6.2. kello 16.30-19\, Teams\nLuova tekoäly kehittyy valtavalla vauhdilla ja muuttaa samalla myös visuaalista viestintää. Mikä kuvatekoäly on ja miten se toimii? Millaisia sovelluksia on olemassa ja miten niitä voisi hyödyntää osana omaa työtä? Tule HSJ:n webinaariin oppimaan kuvatekoälyjen perusteet.\nIllan aikana käydään läpi keskeiset kuvatekoälyohjelmat\, niiden toimintaperiaatteet ja uusimmat ominaisuudet. Tutustumme lähemmin kolmeen ohjelmaan\, joita ovat Adobe Firefly\, Midjourney ja DALL-E 3. Näemme käytännön esimerkkien kautta\, miten kuvien luominen tapahtuu tekstikehotteiden eli promptien avulla. \nKuulemme myös kuvatekoälyjen tekijänoikeudellisesta tilanteesta ja tekoälykuvien kaupalliseen hyödyntämiseen liittyvistä rajoituksista. Webinaarin lopuksi on aikaa keskustelulle ja kysymyksille. \nKouluttajana toimii tekoälyasiantuntija ja viestintäpäällikkö Kari Angeria\, joka on tehnyt pitkän uran media-alalla muun muassa päätoimittajana\, tuottajana ja tuotekehittäjänä. Yrittäjänä hän auttaa asiakkaitaan kehittämään tekoälytaitojaan ja tekemään työtään fiksummin tekoälyn avulla.\n \n\nTekoälyasiantuntija Kari Angeria\nWebinaarin jälkeen ymmärrät miten kuvatekoälyt toimivat\, hallitset niiden ohjaamisen perusteet ja hahmotat myös niiden käyttämiseen liittyviä rajoitteita. Koulutus sopii kenelle tahansa kuvatekoälyistä kiinnostunelle. \nKoulutukseen ei kuuluu käytännön harjotuksia tai teknistä opastusta. Huomioithan myös visuaalisen alan ammattilaisille suunnatun kaksiosaisen Midjourney-koulutuksen\, joka järjestetään 12. ja 14.3.2024.\nHSJ:n tukema jäsenhinta webinaarille on 15 euroa. Tilaisuus järjestetään Teams-sovelluksessa\, osallistumislinkin saat suoraan sähköpostiisi ennen webinaarin alkua. Voit esittää kuvatekoälyihin liittyvät kysymyksesi jo ilmoittautumisen yhteydessä.\nIlmoittaudu viimeistään 30.1. Lämpimästi tervetuloa!
LOCATION:Teams
URL:http://tapahtuma.hsj.fi/kuvatekoaly
END:VEVENT
END:VCALENDAR
