BEGIN:VCALENDAR
METHOD:PUBLISH
VERSION:2.0
PRODID:-//Eventilla iCal Syndication//NONSGML Liana//EN
BEGIN:VEVENT
UID:gebGd@eventilla.com
DTSTAMP:20211210T160000Z
DTSTART:20211210T160000Z
DTEND:20211210T215900Z
SUMMARY:HSJ 100+1
DESCRIPTION:Lämpimästi tervetuloa\nHelsingin Seudun Journalistien\n100+1 -juhlaan\nperjantaina 10. joulukuuta 2021\nkello 18–24\nVanhalle ylioppilastalolle\n \nOvet avautuvat kello 17\, juhla alkaa kello 18.\n*\nIltaa tähdittävät muun muassa\nimprovisaatioryhmä Stella Polaris\,\nkirjailija Juha Hurme\, Kalevauva.fi\,\nJournalistikuoro Fraasi ja DJ Miska.\nNautimme kolmen ruokalajin illallisen juomineen\niloisessa 1920-luvun hengessä!\n*\nIllalliskortti 25 euroa.\nKerro ilmoittautumisen yhteydessä valintasi mukainen menu\,\nkala tai vegaaninen\, sekä mahdolliset allergiasi.\n*\nPukeutuminen 1920-luvun hengen mukaisesti tai tumma puku.\n*\nIlmoittaudu 15.11. mennessä.\nIllalliskortin maksamista varten tarvitset pankkitunnuksesi.\nSaat vahvistusviestin ilmoittamaasi sähköpostiosoitteeseen ja voit ladata illalliskortin\, joka toimii pääsylippunasi juhlaan.\nMuista ottaa illalliskortti mukaasi 100+1 -juhlaan.\n*\nSaavuthan juhlapaikalle ajoissa.\nKulku Vanhalla ylioppilastalolla on pääovilta Mannerheimintieltä.\nSano muikku!\nSinun on mahdollistaa ikuistaa itsesi kello 17–17.45 välillä ennen juhlaohjelman alkua.\n*\nTahdomme tarjota elämyksellisen ja turvallisen juhlan kaikille iltaan osallistuville.\nTilaisuuteen osallistuminen edellyttää koronapassia.\nTiedotamme koronaan liittyvistä turvatoimista tarkemmin juhlan alla.\n*\nLiity joukkoon iloiseen!\nTiedustelut:\njohanna.sillanpaa@hsj.fi\, 050 552 2045\njaana.virtanen@hsj.fi\, 050 518 3353
LOCATION:Vanha ylioppilastalo\, Mannerheimintie 3-5\, 00100\, Helsinki
URL:http://tapahtuma.hsj.fi/event/gebGd
END:VEVENT
END:VCALENDAR
