BEGIN:VCALENDAR
METHOD:PUBLISH
VERSION:2.0
PRODID:-//Eventilla iCal Syndication//NONSGML Liana//EN
BEGIN:VEVENT
UID:gebVd@eventilla.com
DTSTAMP:20210310T150000Z
DTSTART:20210310T150000Z
DTEND:20210310T180000Z
SUMMARY:Nettikuvat ja dokumentit siisteiksi
DESCRIPTION:HSJ:n jäsenten pyynnöstä! \nSomekuvat\, CV:t\, tiedotteet ja muut dokumentit helposti siisteiksi\nKe 10.3. klo 17-20 Zoom-webinaari\nGraafinen suunnittelu ja kuvankäsittely ovat olennainen osa sisältöjen tekemistä eri kanaviin\, mutta kaikilla ei ole resursseja hankkia Photoshopia tai aikaa opetella sen käyttöä. \nCanva on aloittelijaystävällinen graafisen suunnittelun työkalu. Ohjelma tarjoaa käyttöön lukemattomia valmiita kuvapohjia\, joita voi helposti muokata omiin tarpeisiin sopiviksi. Se sisältää myös ilmaisia kuvia\, fontteja ja muita graafisia elementtejä\, joita voi hyödyntää kuvien suunnittelussa.\nCanva toimii selainpohjaisesti\, eli sitä ei tarvitse erikseen asentaa tietokoneelle. Siirry vain selaimella osoitteeseen www.canva.com\, niin pääset suoraan Canvan kirjautumissivulle. Voit kirjautua sisään myös omilla Facebook- tai Google-tunnuksillasi. Voit halutessasi myös luoda käyttäjätunnuksen sähköpostiosoitteellasi.\nMobiiliversiot (kännykkä tai tabletti) ovat suppeampia ja siksi niitä ei suositella käytettäväksi koulutuksessa.\n\nCanva-kouluttajanamme toimii Art Director Henna Kuvaja Kuulu Oy:stä.\nKoulutus keskittyy somekuvien muokkaamiseen\, mutta siitä saa paljon käytännöllistä oppia myös muuhun graafiseen suunnitteluun\, kuten CV:t\, työhakemukset\, tiedotteet ja muut dokumentit. \nCanva on Australiassa 2012 perustetun yrityksen kehittämä ohjelma. Canvasta on ilmaisen version lisäksi myös laajemmat\, maksulliset versiot.\nKoulutuksen sisältö:\n\nCanvan käyttöönotto\nPerustoimintoihin tutustuminen\nVisuaalisen sisällön suunnittelu printtiin ja digikanaviin\nMillainen kuva herättää huomion?\nEsitteiden\, julisteiden ja tiedotteiden suunnittelu\nCV:n ja työhakemuksen toteutus Canvalla\nSopivan kuvan ja kuvakoon valitseminen somekanavan mukaan\n\nIlmoittaudu mukaan!
LOCATION:Zoom-webinaari
URL:http://tapahtuma.hsj.fi/event/gebVd
END:VEVENT
END:VCALENDAR
