BEGIN:VCALENDAR
METHOD:PUBLISH
VERSION:2.0
PRODID:-//Eventilla iCal Syndication//NONSGML Liana//EN
BEGIN:VEVENT
UID:gebr6@eventilla.com
DTSTAMP:20230118T150000Z
DTSTART:20230118T150000Z
DTEND:20230118T180000Z
SUMMARY:Kirjoita nimet oikein
DESCRIPTION:Sampolle vai Sammolle? Näin kirjoitat nimet oikein\nkeskiviikkona 18.1. klo 17–20Original Sokos Hotel Presidentti\, Eteläinen Rautatiekatu 4\, Helsinki\nILMOITTAUDU VIIMEISTÄÄN 11.1.\nSampolle vai Sammolle? PowerPoint\, Powerpoint\, powerpoint? Tapanilan Tikki & Tuska vai Tapanilan tikki ja tuska?\nKielenhuoltoillan aikana käydään läpi nimien kirjoittamista ja taivuttamista sekä kirjoittamiseen liittyviä perussääntöjä.\nLisäksi pohditaan\, kelle nimi oikeastaan kuuluu: sen kantajalle vai kieliyhteisölle?\nKoulutuksen jälkeen tekstinteko sujuu helpommin ja osaat etsiä aiheesta lisätietoa.\nErilaisiin nimiin liittyy paljon pähkäiltävää:\n\nMiten tuotenimet pitäisi kirjoittaa? \nSaako ihminen itse valita\, miten hänen nimensä taipuu?\nKuka päättää\, miten firmojen nimet mediassa kirjoitetaan?\nMukana myös tietoisku ukrainalaisten nimien oikeinkirjoituksesta\n\n \nKouluttajana toimii FM\, kielenhuoltaja Riitta Hyvärinen\, joka on työskennellyt Kielitoimiston kouluttajana 20 vuotta ja erikoistunut journalistiseen kieleen.\nHuom. HSJ:ssa tapahtuman yhteyshenkilö on 9.1. alkaen koulutuskoordinaattori Laura Vuoma\, joka vastaa siitä lähtien Riitan puhelinnumeroon 050 409 5138 sekä sähköpostiin laura.vuoma@hsj.fi. Peruutukset tehdään HSJ:n toimistoon: jaana.virtanen@hsj.fi.\nTämä koulutus on maksullinen:\n\n 25 euroa työsuhteiset\, freelancerit\, eläkeläiset\n 10 euroa työttömät ja opiskelijat\n\nLippu valitaan ilmoittautumisen yhteydessä. Maksua varten tarvitset pankkitunnukset tai puhelimen mobiilipankkisovelluksen.\nMuistathan\, että työnantajalta voi tiedustella osallistumista ammatillisen koulutuksen kustannuksiin.\nKoronaohjeet: Tiedotamme Hotelli Presidentin antamista koronaohjeista ilmoittautuneille. Jos koronatilanne muuttuu\, valmistaudumme pitämään tilaisuuden etänä tai siirtämään sen sopivaan ajankohtaan.\nTervetuloa!
LOCATION:Sokos Hotel Presidentti\, Eteläinen Rautatiekatu 4\, 00100\,
 Helsinki
URL:http://tapahtuma.hsj.fi/event/gebr6
END:VEVENT
END:VCALENDAR
