BEGIN:VCALENDAR
METHOD:PUBLISH
VERSION:2.0
PRODID:-//Eventilla iCal Syndication//NONSGML Liana//EN
BEGIN:VEVENT
UID:kNZ1Y@eventilla.com
DTSTAMP:20230201T170000Z
DTSTART:20230201T170000Z
DTEND:20230201T180000Z
SUMMARY:Esoteriakerhon Teams-haastattelu: Huntu-dokumentti
DESCRIPTION:Esoteriakerho haastattelee: Huntu keskiviikkona 1.2. kello 19\n \nToimittaja Jukka Vuorion\, Esoteriakerhon isännän\, Teams-haastattelussa ovat Huntu-dokumenttielokuvan tekijät ohjaaja-käsikirjoittaja Ukko Torni ja tuottaja-käsikirjoittaja Rikhard Larvanto. Joukkorahoitettu dokumentti kertoo esoterian ja okkultismin historiasta Suomessa sekä useiden tunnettujen taiteilijoiden ja kulttuurivaikuttajien suhteesta salatieteisiin.\nLisätietoja tapahtumasta\, kerhosta sekä Teams-linkin saa ilmoittautumalla kerhoisännälle: jukka.mikael.vuorio@gmail.com.-----\nEsoteriakerho perustettiin toimittaja Perttu Häkkisen journalismiin perehtyvän luennon vanavedessä. Luento oli osa HSJ:n 100-vuotisjuhlaluentojen sarjaa. Kerho järjestää vuodessa muutamia tapahtumia\, joissa perehdytään erilaisiin ilmiöihin journalistisella otteella.
LOCATION:Teams
URL:http://tapahtuma.hsj.fi/event/kNZ1Y
END:VEVENT
END:VCALENDAR
