BEGIN:VCALENDAR
METHOD:PUBLISH
VERSION:2.0
PRODID:-//Eventilla iCal Syndication//NONSGML Liana//EN
BEGIN:VEVENT
UID:kNZG6@eventilla.com
DTSTAMP:20211123T141500Z
DTSTART:20211123T141500Z
DTEND:20211123T153000Z
SUMMARY:HSJ höntsä: koripallo
DESCRIPTION:HSJ-höntsät alkavat! Ensimmäisellä kerralla vuorossa on koripallo.\n\n\nKoripallotreenit tiistaina 23.11. kello 16.15–17.30 Töölön kisahallin B-hallissa\n\n\nOttelu Helsinki Seagulls vs. BC Nokia tiistaina 7.12. kello 18.30 alkaen\n\n\nKori voi riippua korkealla\, mutta höntsässä rima on aina sopivan matalalla. Höntsissä tutustumme erilaisiin urheilulajeihin ammattilaisten tai aktiivisten harrastajien avulla vailla tulostavoitteita. Tärkeintä on hyväntuulinen pelailu\, erilaisten lajien kokeilu ja yhdessä liikkuminen. Aiempaa harrastuneisuutta tai pelitaustaa ei tarvita. Jokainen höntsäkerta on itsenäinen ja sille ilmoittaudutaan erikseen.\nHSJ:ssa tahdomme kuitenkin tarjota jäsenillemme parasta ja niinpä koripalloa kokeillaan kaupungin oman lokkijengin\, Helsinki Seagullsin opastuksella. Näin saat maistiaisia myös ammattiurheilijan arjesta.\nTreenikerran jälkeen näemme ”Gullsit” myös tositoimessa\, sillä osallistumme Korisliigan otteluun BC Nokiaan vastaan 7. joulukuuta Töölön kisahallilla. 25 euron hintaan pääset kokemaan sekä Seagullsin räätälöimät treenit HSJ:lle että matsin. Lipun ostaminen edellyttää osallistumista molempiin.\nLisätietoja treeneistä 23.11. ja ottelusta 7.12.\nTervetuloa nauttimaan korisiltapäivästä Helsinki Seagullsin valmennustiimin ja huippupelaajien johdolla! Treenit koostuvat lämmittelystä ja pienryhmäharjoitteista\, joissa pureudutaan mm. kuljettamisen ja heittämisen saloihin. Treenien lopuksi höntsäillään eli pelataan rennolla otteella. Harjoitteissa ei vaadita aiempaa pelikokemusta ja mukaan on tervetulleita kaikki sukupuoleen ja ikään katsomatta.\nTreenit vetää Seagullsin päävalmentajistoon kuuluva Jussi Laakso ja mukana on myös Seagullsin pelaajia.\n\nTreenit järjestetään Töölön kisahallin liikuntahalli B:ssä.\nTulethan treenipaikalle ajoissa\, viimeistään kello 16.15\, jotta aikaa jää vaatteiden vaihtoon.\nVaraa mukaasi sisäliikuntaan soveltuvat vaatteet ja jalkineet.\nOta mukaasi myös juomapullo.\nTreenit alkavat 16.30 ja kestävät noin tunnin.\n\nOtteluun Helsinki Seagulls–BC Nokia HSJ hankkii liput istumakatsomosta ja ne toimitetaan osallistujille lähempänä pelipäivää. Peli pelataan Töölön kisahallilla. Viime kaudella Helsinki Seagulls sijoittui Korisliigan kolmanneksi\, BC Nokia kuudenneksi.\nTreeneihin ja matsiin on paikat 20 HSJ:n jäsenelle. Lähde liikkumaan yhdessä ja nauttimaan urheiluelämyksestä. Kannustetaan kautensa vahvasti avannut Gulls voittoon! \nHelsinki Seagulls\nVuonna 2013 perustettu Helsinki Seagulls\, tuttavallisemmin Gulls\, on pelannut miesten Korisliigassa vuodesta 2014 asti. Lyhyen historiansa aikana joukkue on onnistunut saavuttamaan jo kolme SM-pronssimitalia kausina 2016–2017\, 2017–2018 ja 2020–2021. Joukkue on voittanut Suomen Cupin vuosina 2020 ja 2021.\nHelsinki Seagulls pelaa kotiottelunsa historiallisessa Töölön kisahallissa\, jonka katsomot ovat keränneet yleisöä melkein maksimikapasiteetin eli keskiarvoltaan lähes 1000 katsojaa ottelua kohden.\nKaudella 2021–22 joukkueessa pelaavat mm. yksi Suomen maailmalla menestyneimmistä koripalloilijoista Petteri Koponen\, valovoimainen Susijengin kapteeni Shawn Huff\, lähes 400 ottelua liigassa pelannut Gulls-kapteeni Tuukka Kotti sekä nuori lupaava takamies Lassi Nikkarinen\, joka pelaa myös maajoukkueessa.\nSeagullsin päävalmentajina toimivat kaksi Suomen mestaruutta Kauhajoen Karhu Basketissa voittanut Jussi Laakso ja Saksassa useamman vuoden valmentanut Vesa Vertio.\nKoronaturvallisuus (päivitetty 18.11.)\nEtelä-Suomen Avin päätökseen 18.11. nojaten Helsinki Seagulls ottaa käyttöön koronapassit otteluissaan joulukuun alusta alkaen. Niinpä osallistuminen 7.12. peliin edellyttää voimassa olevaa koronapassia ja henkilöllisyystodistusta. Seagullsin otteluissa on myös vahva maskisuositus. Myös treeneissä on mahdollista käyttää maskia.\nMikä koronapassi?\nEU:n digitaalinen koronatodistus toimii koronapassina. Sen voi ladata Omakannasta. Se sisältää kolme eri todistusta: todistuksen koronarokotuksesta\, todistuksen koronatestituloksesta ja todistuksen sairastetusta koronasta. Passi luetaan mobiilisovelluksella\, mutta asioinnin sujuvuuden vuoksi se kannattaa ladata puhelimeen tai tulostaa jo etukäteen.\nRokotustiedot tulevat Omakantaan 5 vuorokauden kuluessa siitä\, kun rokotus on annettu. Testitulostodistus toimii koronapassina Suomessa\, jos henkilö on saanut testistä negatiivisen testituloksen enintään 72 tuntia aiemmin. Sairastamistodistus toimii koronapassina\, jos henkilö on sairastanut koronan enintään kuusi kuukautta aiemmin.\nLue lisää koronapassista Omakannasta ja STM:n sivuilta.
LOCATION:Töölön kisahalli\, Paavo Nurmen kuja 1 C\, 00250\, Helsinki
URL:http://tapahtuma.hsj.fi/event/kNZG6
END:VEVENT
END:VCALENDAR
