BEGIN:VCALENDAR
METHOD:PUBLISH
VERSION:2.0
PRODID:-//Eventilla iCal Syndication//NONSGML Liana//EN
BEGIN:VEVENT
UID:kNZqY@eventilla.com
DTSTAMP:20190606T140000Z
DTSTART:20190606T140000Z
DTEND:20190606T153000Z
SUMMARY:Kävely Hietaniemessä
DESCRIPTION:HSJ:n suositut kulttuurikävelyt jatkuvat \nKävelykierros taiteilijoiden haudoille Hietaniemessä\n\n6. kesäkuuta kello 17 – 18.30 \n\nHelene Schjerfbeck\, Akseli Gallen-Kallela\, Hugo Simberg ja Magnus von Wright...Näiden ja monien muiden kuuluisuuksien taidetta on esillä Taidekoti Kirpilässä. \nNyt meillä on tilaisuus tutustua kävellen Kirpilän kokoelmassa olevien taiteilijoiden elämään ja viimeiseen leposijaan.\nKierroksen aluksi taidekodin opas\, taidehistorioitsija ja konservaattori\, FM Suvi Leukumaavaara vie ryhmämme Juhani Kirpilän haudalle\, jossa kukkii Kain Tapperin ikikukka. Parin kilometrin kierros jatkuu kiinnostavia tarinoita kuunnellen reilun kymmenen taidekodin kokoelmassa olevien taiteilijan haudaille. Tilaisuus on osanottajille maksuton.
LOCATION:Hietaniemen hautusmaa\, Hietaniemenkatu\, 00100\, Helsinki
URL:http://tapahtuma.hsj.fi/event/kNZqY
END:VEVENT
END:VCALENDAR
