BEGIN:VCALENDAR
METHOD:PUBLISH
VERSION:2.0
PRODID:-//Eventilla iCal Syndication//NONSGML Liana//EN
BEGIN:VEVENT
UID:kNZw6@eventilla.com
DTSTAMP:20210127T150000Z
DTSTART:20210127T150000Z
DTEND:20210127T180000Z
SUMMARY:Toimittajasta tietokirjailijaksi
DESCRIPTION:Toimittajasta tietokirjailijaksi\nKeskiviikkona 27.1. klo 17 - 20\nTeams-webinaariMuhiiko mielessäsi kiinnostava idea\, joka vaatii pitkää ja perusteellista käsittelyä?Toimittajasta tietokirjailjaksi -koulutus antaa tietoa\, miten löytää kustantaja\, mitkä aiheet maailmalla ja meillä nyt kiinnostavat\, ja miten tietokirjailijan työ käytännössä sujuu. \n \nToimittajasta tietokirjailijaksi -kurssilla opit:\n\n\nMiten tietokirjan kirjoittaminen eroaa toimittajan työstä?\n\n\nMillainen on hyvä tietokirjan aihe?\n\n\nMissä vaiheessa kustantajia on järkevää lähestyä\, ja mitä siihen tarvitaan?\n\n\nMistä saat aikaa\, rahaa ja työrauhaa?\n\n\nKouluttajina toimivat toimittaja\, tietokirjailija Johanna Vehkoo ja Suomen tietokirjailijat ry:n viestintäpäällikkö Anne Rutanen. Johanna Vehkoo on kirjoittanut neljä tietokirjaa. Tässä koulutuksessa hän kertoo kokemuksistaan tietokirjailijana ja jakaa osallistujille käytännön vinkkejä. Anne Rutanen kertoo tietokirjallisuusalan uusista trendeistä.\n \nKurssille mahtuu 50 henkilöä.\nKurssin hinta on 25 euroa. Kysy työnantajaltasi\, maksaako se kurssin.Työttömät ja opiskelijat 10 euroa.Kurssimaksu on maksettava ilmoittautumisen yhteydessä.\n 
LOCATION:Teams-webinaari
URL:http://tapahtuma.hsj.fi/event/kNZw6
END:VEVENT
END:VCALENDAR
