BEGIN:VCALENDAR
METHOD:PUBLISH
VERSION:2.0
PRODID:-//Eventilla iCal Syndication//NONSGML Liana//EN
BEGIN:VEVENT
UID:kreY9@eventilla.com
DTSTAMP:20260222T215900Z
DTSTART:20260222T215900Z
DTEND:20260222T215900Z
SUMMARY:HSJ:n lomatukihaku 2026
DESCRIPTION:Hae tukea kotimaan lomiin!\nHSJ jatkaa vuonna 2023 aloitettujen lomatukien myöntämistä. \nTukisumma on 200 euroa\, ja niitä jaetaan 20 jäsenelle. Tuen voi käyttää yhden matkarupeaman majoitus- ja matkakuluihin Suomessa.\nLomatuen haku alkaa helmikuun alussa ja päättyy sunnuntaina 22.2. kello 23.59. Jos hakijoita on enemmän kuin paketteja\, saajat arvotaan. \nHuom! Lomatuen saajien nimet julkaistaan ensi vuoden keväällä yhdistyksen vuosikertomuksessa. \nLomakohteen voi valita saaja itse. Tuen voi käyttää lomaan kaupungissa tai maaseudulla\, esimerkiksi mökin vuokraan\, hotelliyöpymiseen ja myös "staycationiin" eli majoittumiseen ja matkustamiseen kotikaupungissa.\nLomatuki on käytettävä yhdellä kertaa vuoden 2026 loppuun mennessä. Yhdellä kertaa tarkoittaa yhtä matkakokonaisuutta tietyllä yhtenäisellä aikavälillä. Tukea ei voi jakaa useammalle matkalle. \nMatkakuluiksi hyväksytään julkisilla kulkuvälineillä tehtävät matkat. Tukea ei siis saa kilometrikorvauksiin\, polttoainekuluihin eikä auton vuokraamiseen.\nHSJ:n toimisto viestii hakijoille haun tuloksista viimeistään perjantaina 6.3. \n\nLomatuki maksetaan loman toteutumisen jälkeen HSJ:n toimistolta kuitteja vastaan. Keskikesällä toimisto on lomien vuoksi suljettu\, jolloin maksuissa on tauko.\nLoppuvuodesta käytettävien tukien osalta kuitit on toimitettava viimeistään 15.1.2027\, jotta ne ehtivät vuoden 2026 kirjanpitoon. \nMatkavarauksesta tulee käydä ilmi tuen saaneen jäsenen nimi. Siksi varaukset majoituksista ja matkoista\, joihin tukea käytetään\, tekee tuen saanut jäsen itse\, jolloin kuittien selvittäminen on selkeää.\nHSJ:n jäsenyys on tuen saamisen ja maksamisen edellytys.\n\nLomatuen saamisessa on kolmen vuoden karenssi. Sen mukaisesti kotimaan lomatukea vuonna 2026 saavat voivat saada sitä seuraavan kerran vuonna 2029. \nKarenssivuodetSaatu 2023\, seuraava mahdollinen kerta vuonna 2026Saatu 2024\, seuraava mahdollinen kerta vuonna 2027Saatu 2025\, seuraava mahdollinen kerta vuonna 2028 
LOCATION:
URL:http://tapahtuma.hsj.fi/lomatuki2026
END:VEVENT
END:VCALENDAR
