BEGIN:VCALENDAR
METHOD:PUBLISH
VERSION:2.0
PRODID:-//Eventilla iCal Syndication//NONSGML Liana//EN
BEGIN:VEVENT
UID:l0NG9@eventilla.com
DTSTAMP:20210420T053000Z
DTSTART:20210420T053000Z
DTEND:20210420T060000Z
SUMMARY:HSJ:n kotikoutsaus I: istuminen
DESCRIPTION:(Teksti jäsenkirjeestä)\nKotikoutsaus I: Istuminen\nTeams-webinaari tiistaina 20.4. klo 8.30–8.50\nTänä keväänä HSJ saa oman kotikoutsin! Fysioterapeutti ja työhyvinvointivalmentaja Joonas Putti tarjoaa yhdistyksen jäsenille neljä käytännönläheistä tietoiskua\, joissa keskitytään seuraaviin teemoihin:\n\nTiistai 20.4. klo 8:30: Istumisen haitat\, tauottamisen hyödyt ja ergonomia. Jos haluat ennaltaehkäistä vaivoja\, tai jumeja on jo ilmaantunut\, tämä on sinua varten!\nTiistai 4.5. klo 8.30: Niska-hartiaseutu\nTiistai 18.5. klo 8.30: Selkä\nTiistai 1.6. klo 8.30: Palautuminen ja stressinhallinta\n\nHuomaathan\, että koutsaukset tallennetaan ja linkki tallenteeseen lähetetään seuraavassa jäsenkirjeessä. Ethän välitä sitä eteenpäin\, sillä tallenteet on tarkoitettu vain HSJ:n käyttöön.\nLiity kotikoutsaukseen alla olevasta Teams-linkistä. Sinun ei tarvitse ladata sovellusta\, vaan Teamsiin pääset myös nettiselaimellasi (suosituksena Chrome tai Edge). Etukäteisilmoittautumista ei tarvita\, mutta saavuthan langoille jo vähän ennen ohjauksen alkua. Jokaisen session jälkeen jää aikaa kommenteille.\nHSJ tarjoaa kotikoutsaukset jäsenilleen ilmaiseksi. Tervetuloa mukaan!\nLisätietoja antaa ja ongelmatilanteissa auttaa toimarinne Johanna:            050 5522 045 tai johanna.sillanpaa@hsj.fi.
LOCATION:Teams-webinaari
URL:http://tapahtuma.hsj.fi/event/l0NG9
END:VEVENT
END:VCALENDAR
