BEGIN:VCALENDAR
METHOD:PUBLISH
VERSION:2.0
PRODID:-//Eventilla iCal Syndication//NONSGML Liana//EN
BEGIN:VEVENT
UID:l0Nd9@eventilla.com
DTSTAMP:20220206T130000Z
DTSTART:20220206T130000Z
DTEND:20220206T130000Z
SUMMARY:HSJ:n perhepäivä: Hevisaurus-striimikonsertti
DESCRIPTION:Hevisauruksen livestriimi-konsertti tarjoaa koko perheen hupia kotisohville\nsunnuntaina 6.2. kello 14\nMonille jo tuttu Hevisaurus on neljän dinosauruksen ja lohikäärmeen muodostama kokoonpano\, joka soittaa räyhäkästä jurahevimusiikkia lapsille ja lapsenmielisille. Konsertin tuotoilla tuetaan Sydänlapset ry:n toimintaa ja keikka käynnistää 7.–14.2. vietettävän Sydänviikon. HSJ tarjoaa konsertin perheellisille jäsenilleen. Luvassa on räyhäkästä meininkiä sekä iloa ja hyvää mieltä turvallisesti kotisohville!\nIlmoittaudu viimeistään tiistaina 1.2. HSJ tarjoaa osallistumisen 50 jäsenelleen (yksi katseluoikeus / perhe). Konsertin tekniikasta ja taltioimisesta vastaa Keikalla.fi-palvelu. Mikäli et pysty katsoa sitä livenä\, konserttitallenne on katsottavissa palvelussa seitsemän päivän ajan.\nMiten katsot keikan?\n\nKeikalla.fi on Lippu.fi:n\, Rockwayn ja Muusikkojen liiton luoma verkkoalusta\, joka tarjoaa kulttuurielämyksiä virtuaalimuodossa.\nHSJ ostaa keikalle 50 katseluoikeutta ja lähettää sinulle henkilökohtaisen striimikoodin antamaasi sähköpostiosoitteeseen tapahtuman ilmoittautumisajan päättymisen jälkeen.\nStriimin katsominen vaatii rekisteröitymisen palveluun. Luo käyttäjätili (voit luoda tilin myös Facebook-tunnuksesi kautta)\, tai jos Keikalla.fi on jo käytössä\, kirjaudu palveluun.\nKirjauduttuasi syötä koodi tai paina "Lisää tapahtuma".\nKoodin onnistuneen aktivoinnin jälkeen tapahtuma ilmestyy Omat tapahtumat -sivulle. Päivitä sivu tarvittaessa. Avaa esityksen striimi klikkaamalla tapahtumaa.\nHuomaathan\, että konserttia voi katsoa vain yhdeltä laitteelta. Katsominen vaatii tietokoneen tai mobiililaitteen. Koko perhe voi nauttia keikasta esimerkiksi yhdistämällä tietokoneen televisioon.\nPalvelun toiminta laitteessasi kannattaa varmistaa jo etukäteen. Keikalla.fi suosittelee katsomiseen 10Mbps:n nettiyhteyttä. Tarkemmat ohjeet striimiympäristön käyttöön löytyvät tästä testivideosta.\nVastauksia yleisimpiin kysymyksiin löydät täältä\, ja ongelmatilanteessa ota yhteys tekniseen tukeen: tuki@keikalla.fi\n\nRäyhäkästä keikkaa!
LOCATION:https://www.keikalla.fi/
URL:http://tapahtuma.hsj.fi/event/l0Nd9
END:VEVENT
END:VCALENDAR
