BEGIN:VCALENDAR
METHOD:PUBLISH
VERSION:2.0
PRODID:-//Eventilla iCal Syndication//NONSGML Liana//EN
BEGIN:VEVENT
UID:l0NvJ@eventilla.com
DTSTAMP:20191031T150000Z
DTSTART:20191031T150000Z
DTEND:20191031T170000Z
SUMMARY:Töölöstä tuonpuoleiseen
DESCRIPTION:Suositut kävelymme Halloween hengessäsaavat odotettua jatkoa\nTöölöstä tuonpuoleiseen -kummituskävely\n \n\n30.10. kello 17 – 19 (tilaa vielä)\n31.10. kello 17 – 19 (jonoon)\n\n \nKävelyllä tutustumme muun muassa Hakasalmen huvilan kuuluisimpaan aavemaiseen asukkaaseen\, Kansallismuseon kummitukseen ja helsinkiläisten teattereiden levottomiin sieluihin.Kokoonnumme Hakasalmen huvilalla (Mannerheimintie 13 B)\, josta vaellamme keskustaan ja koukkaamme Rautatientorin kautta Ruttopuistoon.Tule mukaan sukeltamaan Helsingin kulttuuri- ja rakennushistoriaan aavemaisissa tunnelmissa!\nKierros kestää noin 1\,5 tuntia.Kummallekin kierrokselle mahtuu enintään 25 henkilöä.Kierros on osanottajille maksuton\, mutta myöhäisistä peruutuksista ja peruuttamattomasta poisjäännistä perimme sakon.Tervetuloa!
LOCATION:Hakasalmen huvila\, Mannerheimintie 13 B\, 00100\, Helsinki
URL:http://tapahtuma.hsj.fi/event/l0NvJ
END:VEVENT
END:VCALENDAR
