BEGIN:VCALENDAR
METHOD:PUBLISH
VERSION:2.0
PRODID:-//Eventilla iCal Syndication//NONSGML Liana//EN
BEGIN:VEVENT
UID:l9E5V@eventilla.com
DTSTAMP:20260204T141500Z
DTSTART:20260204T141500Z
DTEND:20260204T173000Z
SUMMARY:DocPoint-elokuvailta: Blame
DESCRIPTION:Dokumenttielokuva Blame ja paneelikeskustelu tieteen vapaudesta\nkeskiviikkona 4.2.Kino Regina\, keskustakirjasto Oodi\, Töölönlahdenkatu 4elokuvanäytös kello 16.15–18.20paneelikeskustelu kello 18.30–19.30\nTervetuloa katsomaan Oscar-ehdokkaanakin olleen ohjaajan Christian Frein uutta dokumenttielokuvaa DocPoint-festivaaleille! Näytöksen jälkeen on mahdollista jäädä keskustelemaan elokuvan teemoista yhdessä Mari Mannisen\, Tiina Raevaaran ja Adile Sevimlin kanssa.\nUhattuna oleva tieteen vapaus on yksi pääteemoista tämän vuoden DocPoint-dokumenttielokuvafestivaaleilla. Tieteen tekijät joutuvat yhä useammin julkisen epäilyn\, häirinnän ja poliittisten agendojen kohteiksi. \nChristian Frein dokumenttielokuva Blame tarkastelee\, mitä tapahtuu\, kun tiede vedetään valtakamppailujen ytimeen. Se kertoo kolmesta tutkijasta\, jotka nousivat kansainvälisen huomion keskipisteeseen vasten tahtoaan. Linfa Wang Singaporessa\, Zhengli Shi Wuhanissa ja Peter Daszak Yhdysvalloissa aloittivat yhteistyönsä vuonna 2003 tutkimalla SARS-viruksen mahdollista alkuperää lepakoissa. Vuosia myöhemmin heidän työnsä joutuu keskelle ennennäkemätöntä poliittista myrskyä ja julkista lokakampanjaa.\nElokuvan jälkeen on mahdollisuus jäädä kuuntelemaan Journalistiliiton järjestämää paneelikeskustelua\, jossa käydään läpi sananvapauden\, journalismin ja tieteen kohtaamaa yhteistä uhkaa. Keskusteluun osallistuvat journalistit Mari Manninen ja Adile Sevimli sekä tutkija ja tietokirjailija Tiina Raevaara. Keskustelun vetää liiton kansainvälisten asioiden asiantuntija Salla Nazarenko.\nHSJ tarjoaa liput elokuvanäytökseen 20 osallistujalle. Elokuva alkaa kello 16.15 ja kestää kaksi tuntia. Dokumentti on englanninkielinen ja tekstitetty englanniksi. Kello 18.30 alkavaan paneelikeskusteluun on vapaa pääsy.\nVaraa leffalippusi viimeistään 31.1.\nLämpimästi tervetuloa!
LOCATION:Kino Regina, keskustakirjasto Oodi\, Töölönlahdenkatu 4\,
 00100\, Helsinki
URL:http://tapahtuma.hsj.fi/docpoint2026
END:VEVENT
END:VCALENDAR
