BEGIN:VCALENDAR
METHOD:PUBLISH
VERSION:2.0
PRODID:-//Eventilla iCal Syndication//NONSGML Liana//EN
BEGIN:VEVENT
UID:oJqrz@eventilla.com
DTSTAMP:20251120T133000Z
DTSTART:20251120T133000Z
DTEND:20251120T160000Z
SUMMARY:Kuka pelkää byrokraattia? Raportoi ja viesti osuvasti EU-päätöksenteosta
DESCRIPTION:Helsingin Seudun Journalistit\, Suomen freelance-journalistit ja Euroopan parlamentin Suomen-toimisto tarjoavat kaksiosaisen\, maksuttoman EU-koulutuksen journalisteille ja viestijöille! Ilmoittaudu nyt ensimmäiseen koulutukseen:\nKuka pelkää byrokraattia? Raportoi ja viesti osuvasti EU-päätöksenteosta\ntorstaina 20.11. kello 15.30–18.00\n\nlähitilaisuus kello 15.30 alkaen Eurooppasalissa\, Malminkatu 16\, Helsinki\nwebinaari kello 16 alkaen \n\nKomissio\, parlamentti\, neuvosto\, edustustot\, mepit ja paidannapit... Suomesta tuli Euroopan unionin jäsenvaltio 30 vuotta sitten\, mutta EU on yhä monelle suomalaisille etäinen ja mediaotsikoiden karttama kirjainyhdistelmä. Samalla EU on osa poliittista järjestelmäämme\, joka näkyy jokaisen arjessa.\nMiten unionin päätöksenteko oikeasti toimii? Mitä suomalaisten toimittajien ja viestijöiden kannattaa seurata? Koulutuksemme myötä opit kaivamaan kansalaisia kiinnostavat näkökulmat\, viestimään päätöksistä vaikuttavasti ja asettamaan kontekstit kohdalleen EU-uutisoinnissa. Saat myös asiantuntijoiden parhaat vinkit lähteisiin sekä tehokkaaseen tiedonhakuun.\nKaksiosaisen koulutuksen ensimmäisessä osassa teemoihin johdattavat EU-parlamentin Suomen-toimiston päällikkö Jarmo Oikarinen\, politiikan toimittaja Robert Sundman\, EU-kirjeenvaihtajana työskennellyt oikeustoimittaja Mikko Gustafsson sekä viidennen kauden europarlamentaarikko Sirpa Pietikäinen. Koulutuksen juontaa vapaa toimittaja Maria Markus. \nMitä – missä – milloin?\nKaksiosainen koulutus on tarkoitettu journalisteille ja viestijöille. Osallistujilta ei odoteta EU-asioihin perehtymistä. Yleishyödyllinen koulutus sopii kaikille median ja viestinnän parissa työskenteleville. \nKoulutukset ovat itsenäisiä ja niihin on erillinen ilmoittautuminen.\n\nEnsimmäisellä koulutuskerralla 20.11. keskitytään EU-päätöksentekoon sekä siitä raportoimiseen ja viestimiseen.\nToisella koulutuskerralla 11.12. perehdytään unionin toiminnalle raamit antavaan monivuotiseen rahoituskehykseen niin paikallisesta kuin lobbarin näkökulmasta.\n\nOhjelma 20.11.\n15.30    ilmoittautuminen\, kahvia ja iltapalaa\n16.00    Miten EU-laki syntyy? / Jarmo Oikarinen\, Euroopan parlamentin Suomen-toimiston päällikkö\n16.40    EU-politiikkakin on politiikkaa. EU-päätöksenteon seuraaminen puoluepolitiikan näkökulmasta / Robert Sundman\, politiikan toimittaja\, Suomen Kuvalehti ja Politiikan radio -podcast \n17.10    tauko\n17.20   Meppien ja median yhteistyö. / Keskustelemassa Sirpa Pietikäinen\, Euroopan parlamentin jäsen ja Mikko Gustafsson\, oikeustoimittaja\, HS\, EU-kirjeenvaihtaja 2022–2024\, STT\nOsallistuminen\nKoulutuksen tuottavat Helsingin Seudun Journalistit\, Suomen freelance-journalistit ja Suomen Euroopan parlamentin Suomen-toimisto. Voit osallistua koulutuksiin Eurooppasalissa Helsingin Kampissa tai etänä. Ennakkoilmoittautuminen vaaditaan.\nEurooppasali on EU-parlamentin Suomen-toimiston ja Euroopan komission Suomen-edustuston yhteinen julkinen tila. Paikan päälle mahtuu mukaan 50 osallistujaa. Tarjolla on kahvia ja pientä iltapalaa.\nEtäosallistujille lähetetään linkki ja ohjeet webinaarin seuraamiseen koulutusta edeltävänä päivänä. \nÄlä pelkää byrokraattia – tule päivittämään EU-tietosi!\nIlmoittaudu viimeistään 12. marraskuuta.\n 
LOCATION:Eurooppasali, EU-parlamentin Suomen-toimisto / webinaari\,
 Malminkatu 16\, 00100\, Helsinki\, Suomi
URL:http://tapahtuma.hsj.fi/eu-koulutus
END:VEVENT
END:VCALENDAR
