BEGIN:VCALENDAR
METHOD:PUBLISH
VERSION:2.0
PRODID:-//Eventilla iCal Syndication//NONSGML Liana//EN
BEGIN:VEVENT
UID:opAEL@eventilla.com
DTSTAMP:20220323T150000Z
DTSTART:20220323T150000Z
DTEND:20220323T193000Z
SUMMARY:Vuosikokous 2022
DESCRIPTION:HSJ:n vuosikokous 2022\nSokos Hotelli Presidentissä keskiviikkona 23.3.2022 kello 18(ruokailu 17-18).\nHuom! Kokoukseen voi osallistua vain ilmoittautumalla ennakkoon. Viimeinen ilmoittautumispäivä on maanantai 14.3.Kokouksessa käsitellään Helsingin Seudun Journalistit ry:n sääntöjen pykälän 23 edellyttämät asiat. Lisäksi käsitellään Aikakauslehdentoimittajain Säätiön hallituksen täydennysvaali ja tilintarkastajien valinta sekä HSJ:n sääntömuutos ja uudet kokoussäännöt. Muutoksia esitetään sääntöjen pykäliin 3\, 9\, 10\, 20\, 23\, 24\, 27\, 29\, 32\, 36 ja 39. Muutosesitykset löytyvät nettisivuilta https://www.hsj.fi/hsj/saannot/.Kello 17-18 on tarjolla iltapalaa ruokajuomineen.\nJos koronarajoituksia on voimassa\, on mahdollista\, että hallitus päättää kokouksen pitämisestä osittain tai kokonaan etäyhteydellä. Mahdollisista muutoksista ilmoitetaan ilmoittautuneille sähköpostitse. Muutokset tulevat myös HSJ:n nettisivujen etusivulle. Koko vuosikokouskutsu on luettavissa sieltä www.hsj.fi.\nTervetuloa!\nHelsingin Seudun Journalistit ry:n hallitus
LOCATION:Hotelli Presidentti, Sylvi-sali\, Eteläinen Rautatiekatu 4\,
 00100\, Helsinki
URL:http://tapahtuma.hsj.fi/event/opAEL
END:VEVENT
END:VCALENDAR
