BEGIN:VCALENDAR
METHOD:PUBLISH
VERSION:2.0
PRODID:-//Eventilla iCal Syndication//NONSGML Liana//EN
BEGIN:VEVENT
UID:opYXw@eventilla.com
DTSTAMP:20240416T140000Z
DTSTART:20240416T140000Z
DTEND:20240416T153000Z
SUMMARY:Vierailu Verohallinnon viestintään
DESCRIPTION:Vierailu Verohallinnon viestintään\ntiistaina 16.4. klo 17–18.30Vääksyntie 4\, Helsinki\n \nTaxation Island Suomi\, Epic Tax Party ja ASMR-verotiedote. Verohallinnon palkitusta viestinnästä ei kaistanleveyttä puutu. Kekseliään someviestinnän avulla on tavoitettu tuloksekkaasti etenkin nuoria veronmaksajia.\nMillaiseen viestinnän kokonaisuuteen Verohallinnon somesisällöt kuuluvat? Ja miten kiinnostavaa viranomaisviestintää oikein tehdään - lainsäädäntöä ja virkavastuuta unohtamatta?\nTule kuulemaan lisää! Viestintäjohtaja Kati Kalliomäki\, viestintäpäällikkö Katri Riekkinen ja viestintäsuunnittelija Mari Harala johdattavat meidät Verohallinnon viestinnän linjauksiin ja viranomaisviestinnän arkeen. Kuulemme myös\, millaisia käytäntöjä someviestintään kytkeytyy ja millaista dataa viestinnän tukena hyödynnetään. Tilaisuuden lopussa on runsaasti aikaa kysymyksille ja keskustelulle. \n \n\nKati Kalliomäki\, Katri Riekkinen ja Mari Harala\, kuvat: Verohallinto\nVierailulle mahtuu mukaan 30 HSJ:läistä ja se on jäsenille maksuton. HUOM! Talon turvajärjestelyjen vuoksi tarvitset mukaasi kuvallisen henkilötodistuksen. Vierailu alkaa kello 16.45 kahvi- ja teetarjoilulla\, ensimmäisen puheenvuoron aloitusaika on kello 17.15.\nIlmoittaudu viimeistään 10.4. Lämpimästi tervetuloa!\n \nKuva: Verohallinnon YouTube-kanava @verohallinto_virallinen
LOCATION:Verohallinto\, Vääksyntie 4\, 00510\, Helsinki\, Suomi
URL:http://tapahtuma.hsj.fi/verohallinto
END:VEVENT
END:VCALENDAR
