BEGIN:VCALENDAR
METHOD:PUBLISH
VERSION:2.0
PRODID:-//Eventilla iCal Syndication//NONSGML Liana//EN
BEGIN:VEVENT
UID:pE7Xe@eventilla.com
DTSTAMP:20240913T100000Z
DTSTART:20240913T100000Z
DTEND:20240913T113000Z
SUMMARY:Vierailu Yle Uutisiin
DESCRIPTION:Vierailu Yle Uutisiin\nperjantaina 13.9. kello 13–14.30Mediatalo\, Uutiskatu 5\, Helsinki\nSuomen suosituin tv-ohjelma muuttui kesäkuussa perusteellisesti\, kun Yle Uutiset otti käyttöön uudet studiot\, ohjelmailmeet ja äänimaailman. Kymmenen miljoonaa euroa maksaneen uudistuksen tavoitteena oli toimintavarmuuden takaaminen ja uutiskerronnan keinojen kehittäminen.\nMiten suunnittelussa huomioitiin esimerkiksi huoltovarmuus- ja tietoturvakysymykset? Entä missä mennään tekoälyn hyödyntämisen suhteen? Millaista on työskentely uudessa toimintaympäristössä\, ja miten yleisö on ottanut muutokset vastaan?\nTule HSJ:n vierailulle tutustumaan Yle Uutisiin! Uudistuneiden studioiden lisäksi pääsemme tutustumaan uutisdeskiin. Kuulemme\, miten uutisia tehdään tilanteessa\, jossa Yle yhtiönä kohtaa monenlaista painetta. Huom. Turvallisuussyistä studioihin ja uutisdeskiin tutustutaan kuvayhteydellä. Ihmiset tapaamme livenä uutisten tiloissa. \nOppaanamme toimii Yle Uutisten yleisötoimittaja Marcus Ziemann. Vierailun aikana tapaamme myös uutisten johtoa ja vuorossa olevia toimittajia\, jotka kertovat työstään ja vastaavat kysymyksiin. \nVierailulle mahtuu mukaan 40 HSJ:läistä\, ja se on jäsenille maksuton.\nIlmoittaudu mukaan viimeistään 8.9.\nLämpimästi tervetuloa!\n \nKuva: Ilmari Fabritius / Yle
LOCATION:Mediatalo\, Uutiskatu 5\, 00240\, Helsinki\, Suomi
URL:http://tapahtuma.hsj.fi/yleuutiset
END:VEVENT
END:VCALENDAR
