BEGIN:VCALENDAR
METHOD:PUBLISH
VERSION:2.0
PRODID:-//Eventilla iCal Syndication//NONSGML Liana//EN
BEGIN:VEVENT
UID:pE9Ge@eventilla.com
DTSTAMP:20210610T150000Z
DTSTART:20210610T150000Z
DTEND:20210610T154500Z
SUMMARY:Repin. Ateneumin etäopastus IV
DESCRIPTION:Kiitos mielenkiinnosta Repin-etäopastuksia kohtaan! Tämä tapahtuma on nyt täynnä\, mutta etäopastukseen tiistaille 25.5. klo 18 on vapaana muutamia peruutuspaikkoja. Voit kysyä niistä suoraan toiminnanjohtajalta\, johanna.sillanpaa@hsj.fi.\nRepin: Ateneumin etäopastus IV\nTorstaina 27.5. klo 18–18.45 Teams-webinaari\nKansainvälisen mestarin näyttely esittelee Ilja Repinin tunnetuimpia historiallisia maalauksia ja aikansa kulttuurivaikuttajien muotokuvia Ateneumin kokoelmaan kuuluvien teosten ohella. Nykyisen Ukrainan alueella syntynyt Repin on Venäjän kuuluisin taidemaalari ja myös suomalaisten rakastama: hänen ateljeekotinsa oli Suomen puolella Terijoen Kuokkalassa vuosina 1903–1930.\nAteneum avasi ovensa 27.4.\, mutta ei toistaiseksi ota vastaan ryhmävarauksia. HSJ tarjoaa jäsenilleen vielä yhden mahdollisuuden osallistua etäopastukseen\, joka tutustuttaa taiteilijan keskeisiin teoksiin sekä elämänvaiheisiin näyttelyn tematiikkaa seuraten. \nEtäopastus ei kierrä näyttelysaleissa\, vaan opas esittelee teemoja ja teoksia kuvaesityksen avulla. Sitä varten kannattaa siis hakeutua suuren näytön äärelle. Oppaalle on mahdollista esittää kysymyksiä näyttelyn jälkeen.\nLisätiedot:\n\nOpastukseen otetaan 20 osallistujaa. Paikat jaetaan ilmoittautumisjärjestyksessä.\nOpastuksesta ei peritä maksua osallistujilta\, vaan yhdistys tarjoaa taide-elämyksen jäsenilleen.\nTeams-webinaarilinkki lisäohjeineen lähetetään osallistujille sähköpostitse kaksi vuorokautta ennen tapahtuman alkua.\nMikäli et ole saanut linkkiä vuorokautta ennen tapahtumaa (26.5.)\, olethan yhteydessä toiminnanjohtajaan (johanna.sillanpaa@hsj.fi\, 050 5522 045).\n\nOlet lämpimästi tervetullut Repinin maailmaan!\nLisätietoja näyttelystä:\nRepin Ateneumissa 19.3.–29.8.2021
LOCATION:Teams-webinaari
URL:http://tapahtuma.hsj.fi/event/pE9Ge
END:VEVENT
END:VCALENDAR
