BEGIN:VCALENDAR
METHOD:PUBLISH
VERSION:2.0
PRODID:-//Eventilla iCal Syndication//NONSGML Liana//EN
BEGIN:VEVENT
UID:pE9Le@eventilla.com
DTSTAMP:20220509T140000Z
DTSTART:20220509T140000Z
DTEND:20220510T180000Z
SUMMARY:Retki Luonnonperintösäätiön metsään
DESCRIPTION:Retki Luonnonperintösäätiön metsään\nverkkoluento maanantaina 9.5. klo 17–18 ja metsäretki tiistaina 10.5. klo 17.00 alkaen\nLuonnonperintösäätiö on kalastaja-kirjailija Pentti Linkolan vuonna 1995 perustama metsien ja luonnon monimuotoisuuden suojeluun keskittyvä säätiö. HSJ:n jäsenillä on mahdollisuus tutustua säätiön toimintaan ja vierailla Sipoossa suojellussa Törngrenin metsässä.\nRetkeä edeltää Teams-luento tiistaina 9.5 klo 17\, jossa Luonnonperintösäätiön hallituksen puheenjohtaja Matti Aalto kertoo luonnon ja erityisesti metsien suojelutyöstä\, suojelukohteista ja säätiön toiminnasta. Kysymyksiä kiinnostavista aiheista voi jättää Matille jo etukäteen ilmoittautumisen yhteydessä ja esittää toki myös Teamsissa.\nMetsäretkelle lähdetään tiistaina 10.5. klo 17 bussikuljetuksella Kiasman edestä (Mannerheiminaukio 2\, Helsinki) – ole paikalla ajoissa. Oppaana retkellä toimii niin ikään Matti Aalto. Ajomatka kestää noin 45 minuuttia liikenteestä riippuen. Metsässä kuljetaan parisen tuntia. Bussi noutaa meidät noin kahdeksan aikaan ja palaa takaisin Helsingin keskustaan. Muitathan eväät\, hyvät jalkineet ja hyttyssuojan.\n\nTapahtuma on kaksiosainen: verkkoluento ja retki ovat HSJ:n jäsenille maksuttomia. Ilmoittauduthan vain\, jos voit osallistua molempiin.\nMukaan mahtuu enintään 30 osallistujaa. Paikat jaetaan ilmoittautumisjärjestyksessä.\nIlmoittautuminen käynnistyy maanantaina 4.4. ja päättyy keskiviikkona 4.5.\nMikäli et pääsekään osallistumaan\, muistathan perua ilmoittautumisesi\, jotta voimme tarjota paikkaa eteenpäin. Huom. Alle viikkoa ennen tilaisuutta tehdystä peruutuksesta peritään 10 euron toimistokulut. Tapahtumapäivänä tehtynä peruutuksesta tai poisjäännistä (no show) peritään 30 euron maksu (poikkeuksena esim. sairaustodistus).\nLinkki Teams-webinaariin/luentoon lähetetään ilmoittautujille perjantaina 6.5. Jos et ole saanut linkkiä maanantaihin 9.5. mennessä\, ota yhteys HSJ:n toimistoon: johanna.sillanpaa@hsj.fi.\nVaraa mukaan retkelle asianmukainen\, säänkestävä vaatetus ja omat eväät niin\, ettei nälkä iske.\nRetkellä noudatetaan koronaan liittyviä suosituksia\, joista informoidaan osallistujia tilanteen mukaan ennen lähtöä. \n\nLämpimästi tervetuloa!
LOCATION:Teams-webinaari ja retki
URL:http://tapahtuma.hsj.fi/event/pE9Le
END:VEVENT
END:VCALENDAR
