BEGIN:VCALENDAR
METHOD:PUBLISH
VERSION:2.0
PRODID:-//Eventilla iCal Syndication//NONSGML Liana//EN
BEGIN:VEVENT
UID:pE9oe@eventilla.com
DTSTAMP:20200930T140000Z
DTSTART:20200930T140000Z
DTEND:20200930T170000Z
SUMMARY:Hakukoneopt. perusteet_3 uusinta
DESCRIPTION:Hakukoneen perusteet haltuun - uusinta!\nKeskiviikkona 30.9. klo 17 - 20\nSokos Hotelli Presidentti\, Eteläinen Rautatiekatu 4\, 00100 HelsinkiKurssilla opetetaan\, miten kannattaa toimia internetissä hakukoneoptimoinnin näkökulmasta. \nHakukoneoptimointikurssilla opit:- Miten Googlen algoritmi toimii- Miten erottaa Google-mainonta ja Googlen luonnolliset hakutulokset- Millaista sisältöä kannattaa tuottaa hakukoneiden näkökulmasta- Miten tehdä avainsana-analyysi- Miten linkittää oikein- Miten nimetä kuvat fiksusti- Kannattaako tehdä yksi iso kokonaisuus vai monta pientä artikkeliaKurssi on tarkoitettu niille\, jotka haluavat saada selville hakukoneoptimoinnin perustiedot oli sitten kyse työpaikan internetsivujen tai journalistin omien sivujen käytöstä.\nKouluttajana on kokenut Saskia Salomaa Markkinointisankarit Oy:stä. Hän kouluttaa mm. Suomen Yrittäjien jäseniä laajalla maan kattavalla digikiertueella.\nKurssille mahtuu 40 henkilöä.\nKurssin hinta on 25 euroa. Kysy työnantajaltasi\, maksaako se kurssin.Työttömät ja opiskelijat 10 euroa.Kurssimaksu on maksettava ilmoittautumisen yhteydessä.JOS maksuvaiheessa tulee ongelmia ja ilmoittautuminen keskeytyy\, ilmoita asiasta toimistoon.Saat paluupostissa linkin\, josta pääset jatkamaan ilmoittautumisen ja maksamisen loppuun.  
LOCATION:Hotelli Presidentti\, Eteläinen Rautatiekatu 4\, 00100\,
 Helsinki
URL:http://tapahtuma.hsj.fi/event/pE9oe
END:VEVENT
END:VCALENDAR
