BEGIN:VCALENDAR
METHOD:PUBLISH
VERSION:2.0
PRODID:-//Eventilla iCal Syndication//NONSGML Liana//EN
BEGIN:VEVENT
UID:pEXM2@eventilla.com
DTSTAMP:20241001T130000Z
DTSTART:20241001T130000Z
DTEND:20241003T150000Z
SUMMARY:Etäkoulutus: Midjourney visualistin työparina
DESCRIPTION:Toiveuusinta keväältä 2024:Midjourney visualistin työparina\nKaksi etäopetuskertaa\, Teams:tiistaina 1.10. klo 16.00–18.00torstaina 3.10. klo 16.00–18.00\nHaluatko oppia hyödyntämään tekoälyä esimerkiksi kuvituskuvien luomisessa? Tule HSJ:n kaksiosaiseen etäkoulutukseen\, jossa tutustutaan Midjourney-ohjelmiston tärkeimpiin työkaluihin ja harjoitellaan tekoälykuvien luomista tekstikehotteiden eli promptien avulla.\nTekoälykuvituksen ja Midjourneyn saloihin meidät opastaa kansainvälisesti palkittu valokuvaaja ja Digital Artist Antti Karppinen\, jonka koulutuksia arvostetaan niin Suomessa kuin maailmalla. Karppinen on hyödyntänyt tekoälyä erityisesti yrityksille tekemissään brändikuvissa jo useamman vuoden ajan.\nKaksiosaisen koulutuksen aikana opit luomaan ja muokkaamaan kuvia\, rakentamaan yhtenäisiä kuvamaailmoja ja liittämään halutun henkilön Midjourneyn luomaan kuvaan. Saat asiantuntijan parhaat vinkit tekoälykuvitusten sisältöjen ja tyylien hallintaan\, sekä valmiita "promptikaavoja"\, joita voit hyödyntää fotorealististen kuvien luomisessa sekä yksinkertaisten logojen suunnittelussa. \n \n\nValokuvaaja\, tekoälykuvittaja Antti Karppinen.\nKoulutuksen jälkeen hallitset tekoälykuvituksen perusteet ja ymmärrät\, millaisia mahdollisuuksia ja rajoitteita Midjourney tarjoaaa visualistin työhön. Sinulla on myös tietoa tekoälykuvituksen eettisistä ja tekijänoikeudellisista kysymyksistä. \nHarjoituksia varten tarvitset maksulliset tunnukset Midjourneyn käyttöön. Basic-paketin kuukausimaksu on 10 dollaria\, ja tilauksen voi päättää milloin tahansa. Saat ennen koulutuspäivää ohjevideon\, jossa opastetaan vaihe vaiheelta tarvittavien tunnusten luominen ja Midjourneyyn kirjautuminen.\nKoulutuksessa tehtävien käytännön harjoitusten kannalta on hyödyllistä\, jos hallitset kuvankäsittelyn tai jonkin muun visuaalisen suunnittelun ohjelmiston perusteet. Tilaisuus järjestetään Teams-sovelluksessa\, osallistumislinkin saat suoraan sähköpostiisi ennen koulutuksen alkua.\nKoulutukseen mahtuu mukaan 20 HSJ:läistä ja se on maksullinen:\n\n 50 euroa työsuhteiset\, freelancerit\, eläkeläiset\n 25 euroa työttömät ja opiskelijat\n\nLippu valitaan ilmoittautumisen yhteydessä. Maksua varten tarvitset pankkitunnukset tai puhelimen mobiilipankkisovelluksen.\nHSJ tukee jäsentensä osallistumista maksullisiin koulutuksiin ja tapahtumiin vähintään 40 prosentilla. Muistathan\, että työnantajalta voi tiedustella osallistumista ammatillisen koulutuksen kustannuksiin.\nIlmoittaudu viimeistään 22.9. Tervetuloa!
LOCATION:Teams\, Suomi
URL:http://tapahtuma.hsj.fi/midjourney2024
END:VEVENT
END:VCALENDAR
