BEGIN:VCALENDAR
METHOD:PUBLISH
VERSION:2.0
PRODID:-//Eventilla iCal Syndication//NONSGML Liana//EN
BEGIN:VEVENT
UID:pJMQe@eventilla.com
DTSTAMP:20250828T133000Z
DTSTART:20250828T133000Z
DTEND:20250828T170000Z
SUMMARY:SPR Hätäensiapukurssi 4 t®
DESCRIPTION:SPR Hätäensiapukurssi 4 t®\ntorstaina 28.8. klo 16.30–20Journalistiliiton toimisto\, Ympyrätalo\, Siltasaarenkatu 18 A\, 7. krs\, Helsinki\nOlisiko nyt hyvä aika päivittää ensiaputaidot? \nSuomen Punaisen Ristin hätensiapukurssi antaa tärkeimmät tiedot ja taidot hengen pelastamiseksi. Kurssilta saat rohkeutta toimia äkillisissä hätäensiapua vaativissa tilanteissa. Koulutus sisältää käytännön harjoitteita ja ohjausta.\nKurssille mahtuu 20 osallistujaa. Osallistujat saavat mobiilitodistuksen kurssin suorittamisesta.\nHUOM. Halutessasi voit osallistua jatkokoulutukseen torstaina 11.9. kello 16.30–20\, jolloin suoritettuna on SPR Hätäensiapukurssi 8 t®. Se antaa perustiedot ja -taidot auttaa hätätilanteissa ja tavallisissa sairaus- ja onnettomuustilanteissa. Jatkokurssin ilmoittautuminen avautuu 11.8.\nKenelle?\nKurssille voi osallistua ilman aikaisempaa ensiapukoulutusta. Koulutus soveltuu kaikille\, jotka haluavat kehittää omia ensiaputaitojaan tai päivittää voimassaolevan Ensiapukurssi EA 1® - tai EA 2® -todistuksen seuraavaksi kolmeksi vuodeksi. Päivityksen voi tehdä yhden kerran.\nKurssin tarkempi sisältö\n\ntoiminta auttamistilanteessa\ntajuttoman henkilön tunnistaminen ja ensiapu\npainelu-puhalluselvytys sekä neuvovan defibrillaattorin käyttö\nensiapu tukehtumassa olevalle henkilölle\nraajassa olevan suuren verenvuodon tyrehdyttäminen\nsokki\ntapaturmien ehkäisy\n\nKouluttaja\nKouluttajana toimii Punaisen Ristin Ensiavun ja terveystiedon kouluttaja (ETK) Rina Oksanen.\nTodistus\nSPR:n ensiapukurssit ovat henkilösertifikoituja koulutuksia. Osallistujan suoritus viedään todistus- ja pätevyysrekisteriin\, jossa osallistuja voi itse seurata todistuksensa voimassaoloa.\nOsallistuja saa mobiilitodistuksen kurssin suorittamisesta. Todistus on voimassa kolme vuotta ja tunnustetaan kaikissa EU-maissa.\nJos osallistuja tahtoo kurssista mobiilitodistuksen lisäksi perinteisen kotiin lähetettävän ensiapukortin\, sen voi tilata itse SPR:n järjestelmän kautta hintaan 14\,90 € + alv.\nOsallistumismaksu\nHSJ:n tukema jäsenhinta koulutukselle on:\n\n 30 euroa työsuhteiset\, freelancerit\, eläkeläiset\n 15 euroa työttömät ja opiskelijat\n\nLippu valitaan ilmoittautumisen yhteydessä. Maksua varten tarvitset pankkitunnukset tai puhelimen mobiilipankkisovelluksen.\nHintaan sisältyy ennen koulutusta tarjottava kahvi/tee ja sämpylä.\nHSJ tukee jäsentensä osallistumista maksullisiin koulutuksiin ja tapahtumiin vähintään 40 prosentilla. Muistathan\, että työnantajalta voi tiedustella osallistumista ammatillisen koulutuksen kustannuksiin.\nIlmoittaudu viimeistään 21.8. Tervetuloa!\n \n---\nPERUUTUSEHDOT\n\nJos osallistuja peruu koulutuksen 21.8. mennessä\, kurssimaksu palautetaan\, mutta siitä vähennetään käsittelykuluina viisi euroa.\nJos peruutus tulee myöhemmin kuin 21.8. tai ilmoittautunut ei peruuta lainkaan eikä saavu paikalle\, 30 euron hintaisia tai sitä pienempiä kurssimaksuja ei palauteta (poikkeuksena sairaustodistus).\nHUOM! kurssin peruutus tulee tehdä myös HSJ:n toimistoon: laura.vuoma@hsj.fi\n
LOCATION:Journalistiliitto\, Siltasaarenkatu 18 A, 7. krs\, 00530\,
 Helsinki\, Suomi
URL:http://tapahtuma.hsj.fi/hataensiapu4t
END:VEVENT
END:VCALENDAR
