BEGIN:VCALENDAR
METHOD:PUBLISH
VERSION:2.0
PRODID:-//Eventilla iCal Syndication//NONSGML Liana//EN
BEGIN:VEVENT
UID:pJWJe@eventilla.com
DTSTAMP:20250916T140000Z
DTSTART:20250916T140000Z
DTEND:20250916T170000Z
SUMMARY:Rakastu Exceliin: Näin kaivat uutisia taulukoimalla
DESCRIPTION:Veera Tegelbergin kuva: Ella Kiviniemi\nRakastu Exceliin: Näin kaivat uutisia taulukoimalla\ntiistaina 16.9. klo 17–20Journalistiliiton toimisto\, Ympyrätalo\, Siltasaarenkatu 18 A\, 7. krs\, Helsinki\nMikä ihme Excel on\, ja miten juuri sinä helpotat sillä elämääsi toimittajana? Tule valaistumaan intensiiviseen Excel-iltaan\, ja ota haltuun taulukkolaskennan perusteet!\nKouluttajanamme toimii Kauppalehden datatoimittaja Veera Tegelberg\, joka hyödyntää Exceliä päivittäin työssään ja arjessaan. Hän on opettanut datajournalismia muun muassa Tampereen yliopiston ja Haaga-Helian opiskelijoille.\nIllan aikana tutustumme Excelin perustoimintoihin\, kuten lajitteluun ja suodatukseen\, ja otamme haltuun taulukkolaskennan hyödyllisimmät kaavat. Opimme\, miten tiedot saadaan taulukkoon ilman näpyttelyä\, ja harjoittelemme analysointia pivotoinnin ja ristiintaulukointia phaku-funktion avulla. Lisäksi kuulemme\, miten taulukoinnissa voi hyödyntää tekoälyä.\nKoulutuksen jälkeen hallitset Excel-taulukon rakentamisen perusteet ja osaat etsiä valmiista taulukoista itsellesi tarpeellista tietoa. Osallistujat saavat kotiinviemisiksi myös tuhdin lunttilappunipun\, jonka turvin koulutuksen sisältöihin voi palata jälkikäteen.\nOsallistuminen ei edellytä aiempaa kokemusta Excelin käytöstä\, mutta kokemuksesta ei myöskään ole haittaa. Harjoituksia varten tarvitset oman kannettavan tietokoneen sekä taulukkolaskentaohjelman. Voit osallistua myös\, jos koneellasi on Excelin sijaan Google Sheets.\nKoulutus on suunnattu journalistista työtä tekeville\, mutta kaikki HSJ:n jäsenet ovat tervetulleita. Mukaan mahtuu 20 osallistujaa.\nTämä koulutus on maksullinen:\n\n 30 euroa työsuhteiset\, freelancerit\, eläkeläiset\n 15 euroa työttömät ja opiskelijat\n\nLippu valitaan ilmoittautumisen yhteydessä. Maksua varten tarvitset pankkitunnukset tai puhelimen mobiilipankkisovelluksen.\nHintaan sisältyy ennen koulutusta tarjottava kahvi/tee ja sämpylä.\nHSJ tukee jäsentensä osallistumista maksullisiin koulutuksiin ja tapahtumiin vähintään 40 prosentilla. Muistathan\, että työnantajalta voi tiedustella osallistumista ammatillisen koulutuksen kustannuksiin.\nIlmoittaudu viimeistään 7.9. Tervetuloa!
LOCATION:Journalistiliitto\, Siltasaarenkatu 18 A, 7. krs\, 00530\,
 Helsinki\, Suomi
URL:http://tapahtuma.hsj.fi/rakastuexceliin
END:VEVENT
END:VCALENDAR
