BEGIN:VCALENDAR
METHOD:PUBLISH
VERSION:2.0
PRODID:-//Eventilla iCal Syndication//NONSGML Liana//EN
BEGIN:VEVENT
UID:qJ4oO@eventilla.com
DTSTAMP:20211109T150000Z
DTSTART:20211109T150000Z
DTEND:20211109T173000Z
SUMMARY:Pirkko Arstilan teekoulu
DESCRIPTION:Pirkko Arstilan helppo teekoulu\ntiistaina 9.11. klo 17.00–19.30\nEmilie-kabinetti\nScandic Grand Central Helsinki\, Vilhonkatu 13\, Helsinki\nTee on täydellinen kaveri niin pimeneviin aamuihin kuin vilpoisiin iltoihin. Ja paljon muuta!\nToimittajalegenda Pirkon Arstilan helpossa teekoulussa tutustumme paitsi erilaisiin teelaatuihin myös kuulemme teen historiasta ja terveysvaikutuksista. Miten tee ja kahvi eroavat toisistaan\, entä mitä on "sekakäyttäjän" pitkä pirteys? Ilta tarjoaa vinkkejä teen valmistamiseen ja nauttimiseen.\nMiljöönä toimii Eliel Saarisen suunnitteleman päärautatieaseman yhteyteen kunnostettu Scandic Grand Central Helsinki -hotelli\, johon pääsemme tutustumaan viestintäpäällikkö Johanna Uimosen johdolla. Teet toimittaa Demmers Teehaus ja Pirkkoa avustaa kauppias Kirsi Pullinen. Iltaan kuuluu voileipätarjoilu. \nHuom. teekoulun kabinetti on muuttunut: opaskierroksen jälkeen kokoonnumme Emilie-kabinettiin.\nTilaisuus on maksuton HSJ:n jäsenille. Lämpimästi tervetuloa!\nIlmoittautuminen avautuu keskiviikkona 6.10. kello 16.\n--\nPitkän mediauran tehnyt Pirkko Arstila tunnetaan muun muassa MTV3:n uutisankkurina ja Huomenta Suomen juontajana ja toimittajana. Kolumnistina hän toimii edelleen. Intohimoisena teen puolestapuhujana Pirkko perusti teekulttuuria edistävän Teen Ystävät ry:n\, jonka kunniapuheenjohtaja hän on. Teestä Arstila on kirjoittanut teoksen Teen ystävän kirja (Sammakko 2011).
LOCATION:Scandic Grand Central Helsinki\, Vilhonkatu 13\, 00100\, Helsinki
URL:http://tapahtuma.hsj.fi/event/qJ4oO
END:VEVENT
END:VCALENDAR
