BEGIN:VCALENDAR
METHOD:PUBLISH
VERSION:2.0
PRODID:-//Eventilla iCal Syndication//NONSGML Liana//EN
BEGIN:VEVENT
UID:qJ4qO@eventilla.com
DTSTAMP:20210120T150000Z
DTSTART:20210120T150000Z
DTEND:20210120T171000Z
SUMMARY:Tasa-arvoa kielenhuoltoon
DESCRIPTION:Tasa-arvoa kielenhuoltoon!\nKeskiviikkona 20.1. klo 17 - 19.10\nWebinaariKoulutuksen tavoitteena on oppia kiinnittämään huomiota siihen\, miten käytät kieltä taiten tasa-arvonäkäkulmasta sekä kirjoittaessa että editoidessa.\n \nTasa-arvoa kielenhuoltoon -kurssilla opit:\n\nMiksi välttää "autistia" ja "eskimoa"? Pitääkö kirjoittaa "varushenkilö" vai "varussotilas"? \nKuulemme ja keskustelemme siitä\, miten puhua ja kirjoittaa arvostavasti ihonväristä\, vammoista\, sukupuolesta ja seksuaalisesta suuntautumisesta.\nPitääkö kysyä haastateltavalta\, mitä termiä hän haluaa itsestään käytettävän?\nMiten varmistetaan\, että journalisti toimii korrektisti?\nIntersektionaalinen näkökulma: miten toimia\, kun ihmisessä kohtaa monta tasa-arvonäkökulmaa\, kuten köyhä\, musta\, vanha\, nainen tms.? \n\nVoit lähettää etukäteen kysymyksiä ja aiheita\, joita toivot koulutuksessa käsiteltävän osoitteeseen hsj.koulutus@gmail.com.\n \nKouluttajana toimii FM\, kielenhuoltaja Riitta Hyvärinen\, joka on työskennellyt Kielitoimiston kouluttajana 20 vuotta ja erikoistunut journalistiseen kieleen.\nKurssille mahtuu n. 50 henkilöä.\nKurssin hinta on 25 euroa. Kysy työnantajaltasi\, maksaako se kurssin.Työttömät ja opiskelijat 10 euroa.Kurssimaksu on maksettava ilmoittautumisen yhteydessä.\n--- \nHuom! Varapäivää ei toteuteta!
LOCATION:Webinaari
URL:http://tapahtuma.hsj.fi/event/qJ4qO
END:VEVENT
END:VCALENDAR
