BEGIN:VCALENDAR
METHOD:PUBLISH
VERSION:2.0
PRODID:-//Eventilla iCal Syndication//NONSGML Liana//EN
BEGIN:VEVENT
UID:qLLg3@eventilla.com
DTSTAMP:20260518T140000Z
DTSTART:20260518T140000Z
DTEND:20260518T160000Z
SUMMARY:Journalismia planeetan rajoissa
DESCRIPTION:Kouluttaja Anna-Sofia Niemisen kuva Aleksi Tommola.\nJournalismia planeetan rajoissa\nmaanantaina 18.5. kello 17–19Journalistiliitto\, Siltasaarenkatu 18 A\, 7. krs\, Helsinki\nMiltä planeetan rajoissa tehty journalismi voisi näyttää? Sitä tutkailemme tässä koulutuksessa konkreettisten esimerkkien avulla!\nEmme tutustu näyttävään ilmastojournalismiin tai tutkiviin ympäristöjuttuihin\, vaan pohdimme\, miten pitää planeetan rajat mielessä mitä tahansa aihetta käsitellessä.\nKoulutuksessa käydään läpi eri aihepiireistä valikoituja esimerkkiartikkeleita\, joita tarkastellaan luonnonvarojen näkökulmasta. Miten artikkelit muuttuvat\, jos huomioidaan\, että planeettamme ei ole ehtymätön raaka-ainevarasto?\nKenelle?\nOlet tervetullut koulutukseen riippumatta siitä\, miten hyvin tunnet ilmasto- tai ympäristöasioita. Saat myös vinkkejä\, mistä hankkia lisätietoa näistä asioista. Koulutus on suunnattu paitsi journalisteille ja alan opiskelijoille myös muille ilmastoaiheista ja vastuullisuusnäkökulmasta kiinnostuneille sisällöntuottajille. \nKouluttaja\nKouluttajana toimii ilmastoasiantuntijaksi valmistunut vapaa toimittaja Anna-Sofia Nieminen. Anna-Sofia työskentelee myös Suomen freelance-journalistien toiminnanjohtajana. \nIlmoittaudu viimeistään keskiviikkona 13.5.\nKoulutus on maksuton HSJ:n jäsenille. Mukaan mahtuu 20 osallistujaa. Ilmoittautuminen on kuitenkin sitova\, ja myöhemmin kuin 13.5. tehdystä peruutuksesta tai ilmoittamatta poisjäännistä peritään 10 euron peruutusmaksu (poikkeuksena sairaustodistus). Ethän siis jää pois ilman painavaa syytä ja ilmoittamatta!\nKoulutuksen järjestää Helsingin Seudun Journalistit yhteistyössä HSJ:n nuorisolaisklubin kanssa. \nLämpimästi tervetuloa!
LOCATION:Katariina Saksilaisen katu 15\, 00560\, Helsinki\, Suomi
URL:http://tapahtuma.hsj.fi/journalismia_planeetan_rajoissa
END:VEVENT
END:VCALENDAR
