BEGIN:VCALENDAR
METHOD:PUBLISH
VERSION:2.0
PRODID:-//Eventilla iCal Syndication//NONSGML Liana//EN
BEGIN:VEVENT
UID:r4vGM@eventilla.com
DTSTAMP:20210817T150000Z
DTSTART:20210817T150000Z
DTEND:20210817T170000Z
SUMMARY:Hilma af Klintin arvoitus -webinaari
DESCRIPTION:Hilma af Klintin arvoitus. Haastattelussa Pirkko Kotirinta\nTeams-webinaari tiistaina 17.8. klo 18\nRuotsalainen kuvataiteilija Hilma af Klint (1862–1944) tunnetaan abstraktin taiteen edelläkävijänä. Tietokirjailija ja kulttuuritoimittaja Pirkko Kotirinta tarttuu salaperäiseksi koetun ja erakoksi mielletyn taiteilijan maailmaan keväällä 2021 julkaistussa teoksessa Hilma af Klintin arvoitus (Tammi). Kotirinta avaa af Klintin taidetta\, ajattelua ja elämää toimittaja Jukka Vuorion haastattelussa.\nWebinaarin järjestää HSJ:n Esoteriakerho. Ilmoittauduthan tilaisuuteen ja mikäli et pääsekään osallistumaan\, muista perua ilmoittautumisesi.\nTilaisuuteen osallistuneiden kesken arvotaan yksi kappale Pirkko Kotirinnan kirjoittamaa elämäkertaa Hilma af Klintistä.\nLinkki Teams-webinaariin lähetetään ilmoittautuneille  maanantaina 16.8.\nLämpimästi tervetuloa!
LOCATION:Teams-webinaari
URL:http://tapahtuma.hsj.fi/event/r4vGM
END:VEVENT
END:VCALENDAR
