BEGIN:VCALENDAR
METHOD:PUBLISH
VERSION:2.0
PRODID:-//Eventilla iCal Syndication//NONSGML Liana//EN
BEGIN:VEVENT
UID:r4vrd@eventilla.com
DTSTAMP:20220928T140000Z
DTSTART:20220928T140000Z
DTEND:20220928T160000Z
SUMMARY:Poliitikko Instagramissa
DESCRIPTION:Miten poliitikko käyttää somea? Esimerkkinä Instagram\nkeskiviikkona 28.9. klo 17–19Original Sokos Hotel Presidentti\, Eteläinen Rautatiekatu 4\, Helsinki\nMiten poliitikko käyttää somea ja millaisia eettisiä kysymyksiä somen käyttöön liittyy? Vaikutetaanko kärjistyksillä vai onko somessa tilaa myös aidolle vuorovaikutukselle ja pohdinnalle siitä\, mitä politiikka on? \n Minja Koskelan kuvasi Oskari Sipola\nNäitä ajankohtaisia kysymyksiä avaa helsinkiläinen kuntapoliitikko\, musiikin maisteri ja yhteiskuntatieteiden maisteri Minja Koskela\, joka teki tiiminsä kanssa vuoden 2021 kuntavaalien kampanjansa hyödyntäen erityisesti Instagramia poliittisena kanavana.\nPerinteinen media ei tunnistanut vasemmistoliittoa edustavaa Koskelaa ja ihmetteli\, kun hän sai ensikertalaisena jopa helsinkiläisittäin huikeat 5612 ääntä. Instagramissa aktiivisesti toimiville Koskela sen sijaan oli tuttu. Nyt hän on kaupunginvaltuutettu ja kaupunginhallituksen jäsen ja ehdolla ensi kevään eduskuntavaaleissa\nKoskela avaa koulutuksessamme:\n\nmiten poliitikko käyttää sosiaalista mediaa\nmillaisia eettisiä kysymyksiä sosiaalisen median käyttöön liittyy\nmikä rooli visuaalisuudella\, keskustelulla ja tiimillä on politiikan tekemiseen sosiaalisessa mediassa\nmissä määrin julkisuutta voi hallita sosiaalisen median kautta ja millaisia riskejä sosiaaliseen mediaan sisältyy\nymmärtävätkö eri-ikäiset somettajat ja seuraajat toisiaan\nmikä sosiaalisessa mediassa vaikuttavan suhde on mediaan\nmaalittaminen ja nettihäirintä sekä miten häirintää vastaan voi kamppailla\n\nTämä koulutus on maksullinen:\n\n 25 euroa työsuhteiset\, freelancerit\, eläkeläiset\n 10 euroa työttömät ja opiskelijat\n\nLippu valitaan ilmoittautumisen yhteydessä. Maksua varten tarvitset pankkitunnukset tai puhelimen mobiilipankkisovelluksen.\nMuistathan\, että työnantajalta voi tiedustella osallistumista ammatillisen koulutuksen kustannuksiin.\nKoronaohjeet: Tiedotamme Hotelli Presidentin antamista koronaohjeista ilmoittautuneille. Jos koronatilanne muuttuu\, valmistaudumme pitämään tilaisuuden etänä tai siirtämään sen sopivaan ajankohtaan.\nTervetuloa!\n 
LOCATION:Sokos Hotel Presidentti\, Eteläinen Rautatiekatu 4\, 00100\,
 Helsinki
URL:http://tapahtuma.hsj.fi/event/r4vrd
END:VEVENT
END:VCALENDAR
