BEGIN:VCALENDAR
METHOD:PUBLISH
VERSION:2.0
PRODID:-//Eventilla iCal Syndication//NONSGML Liana//EN
BEGIN:VEVENT
UID:ry7Gv@eventilla.com
DTSTAMP:20250210T143000Z
DTSTART:20250210T143000Z
DTEND:20250210T163000Z
SUMMARY:Vierailu Milttonille
DESCRIPTION:Vierailu Milttonille\nmaanantaina 10.2. klo 16.30–18.30Miltton House\, Sörnäisten rantatie 15\, Helsinki\nKonsulttitalo Miltton tarjoaa palveluita esimerkiksi johtamisen\, strategian\, sidosryhmäsuhteiden\, varautumisen sekä markkinoinnin ja viestinnän kysymyksissä. Neuvonantajien tehtävänä on auttaa asiakasyrityksiä ja -järjestöjä menestymään yhteiskunnallisina toimijoina.\nVuonna 2001 perustettuun ja nopeasti kansainvälistyneeseen yritykseen on rekrytoitu lukuisia poliittisia vaikuttajia ja journalisteja. Uusista nimityksistä uutisoitiin viimeksi tammikuussa\, kun rakenteilla olevaan riskienhallinnan\, varautumisen ja kriisiviestinnän yksikköön palkattiin kolme tunnettua toimittajaa. Yhtiö on panostanut viime aikoina erityisesti datan\, teknologian ja tekoälyn hyödyntämiseen.\nMitä Milttonilla oikeastaan tehdään\, ja millaisia asiantuntijoita sieltä löytyy? Mitkä yhteiskunnalliset muutokset ovat talossa tapetilla juuri nyt? Entä miltä näyttää yhteiskunnallinen päätöksenteko neuvonantajan roolissa\, ja millaisen näkökulman journalistinen tausta tarjoaa konsulttityöhön? \nTule tutustumaan johtavaan pohjoismaiseen konsultointiyritykseen!\n \n\nVierailuamme isännöivät Milttonin varatoimitusjohtaja Kaius Niemi sekä vanhempi osakas Jussi Kekkonen. Journalistitaustainen Niemi on työskennellyt myös Helsingin Sanomien\, Ilta-Sanomien ja Taloussanomien päätoimittajana. Yhteiskuntasuhteiden ja vaikuttajaviestinnän palveluiden kehittämisestä vastaava Kekkonen on toiminut muun muassa pääministerin\, valtiovarainministerin sekä liikenne- ja viestintäministerin erityisavustajana.  \nTilaisuuden lopussa on runsaasti aikaa kysymyksille ja keskustelulle.\nVierailulle mahtuu mukaan 50 HSJ:läistä ja se on jäsenille maksuton. Tilaisuudessa on kahvitarjoilu.\nHUOM! Välitämme osallistujatiedot Milttonille etukäteen. Ilmoittaudu siis mukaan viimeistään 6.2. \nLämpimästi tervetuloa!\n \nvalokuvat: Miltton
LOCATION:Miltton House\, Sörnäisten rantatie 15\, 00530\, Helsinki\,
 Suomi
URL:http://tapahtuma.hsj.fi/miltton
END:VEVENT
END:VCALENDAR
