BEGIN:VCALENDAR
METHOD:PUBLISH
VERSION:2.0
PRODID:-//Eventilla iCal Syndication//NONSGML Liana//EN
BEGIN:VEVENT
UID:ryqLa@eventilla.com
DTSTAMP:20251111T063000Z
DTSTART:20251111T063000Z
DTEND:20251111T100000Z
SUMMARY:Magazine Symposium 2025
DESCRIPTION:Tervetuloa Magazine Symposiumiin!\ntiistaina 11.11. klo 8.30–12Haaga-Helia ammattikorkeakoulun auditorio\, Ratapihantie 13\nAikakausmedia-alan supertapahtuma kokoaa jälleen yhteen alan ammattilaiset ja opiskelijat!\nMillaista rohkeutta vapaana toimittajana työskentely vaatii? Miksi kannattaa uskaltaa luottaa kuvaajaan? Miten toimittajia voi suojella rohkean journalismin tekemisessä? Entä millaista uskallusta tarvitaan kestävämmän mediatulevaisuuden kuvittelemiseen? \nMuun muassa näihin kysymyksiin vastaa tämän vuoden Magazine Symposium\, jonka teemana on rohkeus. \nOhjelma:\n8.30     Ilmoittautuminen + kahvi/tee ja sämpylä\n9.00     Alkusanat / Markkinointi- ja tutkimuspäällikkö Outi Itävuo\, Aikakausmedia\n9.05     Uskalla kuvitella kestävämpi mediatulevaisuus / Digitaalisen kestävyyden tutkija\, apulaisprofessori Minna Vigren\, LUT-yliopisto\n9.35     Rohkeus kantaa – Työsuhteesta freelanceriksi ja juttuaiheita omasta elämästä / Freelance-toimittaja Miia Vatka\n10.15   Tauko\n10.40   Luota kuvaajaan! / Kuvajournalisti Antti Yrjönen\n11.20   Rohkeuden hinta – Miten suojella toimittajia rohkean journalismin tekemisessä? / Päätoimittaja\, naisten mediaryhmän johtaja\, Mari Paalosalo-Jussinmäki\, A-lehdet\n12.00    Tilaisuus päättyy\nMagazine Symposium järjestetään Haaga-Helian audiotoriossa Helsingin Pasilassa\, ja sitä voi seurata myös webinaarina.\nTilaisuus on maksuton ja tarkoitettu Helsingin Seudun Journalistien\, Suomen freelance-journalistien\, Aikakausmedian sekä Aikakauslehtien päätoimittajat ry:n jäsenille sekä alan opiskelijoille. \nLähitilaisuuteen saapuville tarjotaan ennen ohjelman alkua aamukahvi/tee ja sämpylä.\n \nLämpimästi tervetuloa!\nIlmoittaudu lähitilaisuuteen tästä. Ilmoittautuminen päättyy 4.11. kello 23.59. \nIlmoittaudu webinaariin tästä. Ilmoittautuminen päättyy 9.11. kello 23.59.\nHUOM! Tilaisuus on maksuton\, mutta mikäli ilmoittaudut lähitilaisuuteen etkä pääsekään paikalle\, muista perua ilmoittautumisesi määräaikaan eli 5.11. mennessä. Muuten joudumme veloittamaan 20 euron no show -maksun aiheutuneiden kulujen vuoksi. Maksusta voi vapautua sairaustodistuksen esittämällä.
LOCATION:Haaga-Helia, Pasilan kampus\, Ratapihantie 13\, 00520\,
 Helsinki\, Suomi
URL:http://tapahtuma.hsj.fi/magazinesymposium2025
END:VEVENT
END:VCALENDAR
