BEGIN:VCALENDAR
METHOD:PUBLISH
VERSION:2.0
PRODID:-//Eventilla iCal Syndication//NONSGML Liana//EN
BEGIN:VEVENT
UID:v8V0K@eventilla.com
DTSTAMP:20211027T140000Z
DTSTART:20211027T140000Z
DTEND:20211027T170000Z
SUMMARY:Kuvatoimittamisen työpaja
DESCRIPTION:Kuvatoimittamisen työpaja\nKeskiviikkona 27.10. klo 17–20Original Sokos Hotel Presidentti\, Eteläinen Rautatiekatu 4\, Helsinki\n \nKuvatoimittamisen työpaja on jäsenten toivoma jatkokoulutus keväällä pidetylle kuvatoimittamisen ABC-paketille\, joka toteutettiin webinaarina.\nTyöpajassa simuloidaan kuvatoimittamista käytännön harjoitusten avulla ja tutustutaan eri kuvapankkien ja muiden kuvatoimituslähteiden kuvatarjontaan. Illan aikana ideoidaan ja etsitään kuvia erilaisiin\, haasteellisiin aiheisiin havainnoiden ja kokeillen erilaisia kuvatyylejä. Työskentely tapahtuu kolmen hengen pienryhmissä\, jotta samoihin teemoihin saadaan erilaisia näkökulmia. Ryhmätyöskentely myös edesauttaa keskustelua sekä korostaa omien kuvavalintojen reflektointia.\nKouluttajana on Kuvatoimittamisen ABC-kurssilta tuttu kokenut kuvatoimittaja Sarri Kukkonen.\nKurssista Sarrin omin sanoin: ”Tää on kädet saveen workshop\, eli ei niinkään teoriaa\, vaan ohjeistusta käytännön tekemiseen\, vinkkejä ja apuja ideointiin ja yhteistä pohdintaa\, jotta osallistujien havaintosilmä kehittyy ja he hahmottavat millaisia asioita on hyvä ottaa huomioon kuvien kanssa työskennellessä.”\nKoulutuksessa tarvitaan oma kannettava tietokone\, muut ohjeet saat ilmoittauduttuasi ennen kurssia.\nKoulutuksen tavoitteet:\n\nAntaa käytännön työkaluja kuvatoimittamisen eri työvaiheisiin.\nHerätellä näkemään kuvan käyttöön ja kuvatoimitustyöhön keskeisesti vaikuttavia asioita.\nAuttaa kuvien suunnittelussa\, valinnoissa ja hankinnassa.\nInspiroida ja antaa käytännön vinkkejä kuvatoimitustyöhön.\n\n \nTämä koulutus on maksullinen:\n\n 25 euroa työsuhteiset\, freelancerit\, eläkeläiset\n 10 euroa työttömät ja opiskelijat\n\nLippu valitaan ilmoittautumisen yhteydessä. Maksua varten tarvitset pankkitunnukset tai puhelimen mobiilipankkisovelluksen.\nHSJ tukee jäsentensä osallistumista maksullisiin koulutuksiin ja tapahtumiin vähintään 40 prosentilla. Muistathan\, että työnantajalta voi tiedustella osallistumista ammatillisen koulutuksen kustannuksiin.\nTervetuloa!
LOCATION:Sokos Hotel Presidentti\, Eteläinen Rautatiekatu 4\, 00100\,
 Helsinki
URL:http://tapahtuma.hsj.fi/event/v8V0K
END:VEVENT
END:VCALENDAR
