BEGIN:VCALENDAR
METHOD:PUBLISH
VERSION:2.0
PRODID:-//Eventilla iCal Syndication//NONSGML Liana//EN
BEGIN:VEVENT
UID:v8Vv0@eventilla.com
DTSTAMP:20230302T150000Z
DTSTART:20230302T150000Z
DTEND:20230302T180000Z
SUMMARY:Faktantarkistuksen työkalut
DESCRIPTION:Faktantarkistuksen työkalut\ntorstaina 2.3. klo 17–20Original Sokos Hotel Presidentti\, Eteläinen Rautatiekatu 4\, Helsinki\nILMOITTAUDU VIIMEISTÄÄN 15.2.\n \n- Mistä tämä kuva on peräisin?\n- Pitääköhän tuo luku paikkansa?\n- Onko tämän someprofiilin takana oikea ihminen?\n- Kuka nuo väitteet on alun perin esittänyt?\nLuotettavan tiedon välittäminen ei aina ole helppoa. Onneksi työn tueksi on olemassa monia hyödyllisiä\, kaikille avoimia työkaluja. Tule päivittämään tietosi HSJ:n faktantarkistuskoulutukseen!\nKoulutuksen aikana käydään läpi faktantarkistuksen perusperiaatteita ja digitaalista infomaatiolukutaitoa.\nKeskustelemme haasteista\, joita kirjoittava toimittaja\, viestijä\, kustannustoimittaja tai visualisti voi työssään kohdata. Lisäksi harjoittelemme faktantarkistusta konkreettisten tehtävien avulla.\nHUOM! Ota mukaan oma kannettava tietokone tai tabletti harjoituksia varten.\n \n \nKouluttajana toimii Faktabaarin vastaava toimittaja ja faktantarkistaja Pipsa Havula.\nFaktabaari on suomalainen faktantarkistuspalvelu\, jonka palkittu journalistinen ja kasvatuksellinen toiminta edistää digitaalista informaatiolukutaitoa. \nHSJ:ssa tapahtuman yhteyshenkilö on koulutuskoordinaattori Laura Vuoma\, p. 050 409 5138\, laura.vuoma@hsj.fi\nTämä koulutus on maksullinen:\n\n 25 euroa työsuhteiset\, freelancerit\, eläkeläiset\n 10 euroa työttömät ja opiskelijat\n\nLippu valitaan ilmoittautumisen yhteydessä. Maksua varten tarvitset pankkitunnukset tai puhelimen mobiilipankkisovelluksen.\nMuistathan\, että työnantajalta voi tiedustella osallistumista ammatillisen koulutuksen kustannuksiin.\nTervetuloa!
LOCATION:Sokos Hotel Presidentti\, Eteläinen Rautatiekatu 4\, 00100\,
 Helsinki
URL:http://tapahtuma.hsj.fi/event/v8Vv0
END:VEVENT
END:VCALENDAR
