BEGIN:VCALENDAR
METHOD:PUBLISH
VERSION:2.0
PRODID:-//Eventilla iCal Syndication//NONSGML Liana//EN
BEGIN:VEVENT
UID:vN8Rk@eventilla.com
DTSTAMP:20241120T150000Z
DTSTART:20241120T150000Z
DTEND:20241120T180000Z
SUMMARY:Törmäyskurssi eli mitä voit oppia freenä tai työsuhteessa työskentelevältä kollegaltasi
DESCRIPTION:Tapahtumakuvassa illan puhujat\, valokuvaaja Ville-Veikko Kaakinen ja vapaa toimittaja Sanna Wallenius. \nTörmäyskurssi\neli mitä voit oppia freenä tai työsuhteessa työskentelevältä kollegaltasi\nkeskiviikko 20.11. kello 17–20Journalistiliiton toimisto Ympyrätalolla\, Siltasaarenkatu 18 A 7. krs\, Helsinki\nHaaveiletko uramuutoksesta? Tienaisitko paremmin\, jos vaihtaisit freestä työsuhteiseksi tai päinvastoin? Parantaisiko muutos työssä jaksamistasi? Tai haluatko oppia ymmärtämään paremmin freelance- tai työsuhteisen kollegan todellisuutta? Törmäyskurssi tarjoaaniin tietoa ja vinkkejä muutosta pohtiville kuin vertaistukea ja mahdollisuuden verkostoitumiseen.\nTilaisuuden aluksi kuulemme kaksi kokemusta uran käännekohdasta. Helsingin Sanomien Turun toimituksen valokuvaaja Ville-Veikko Kaakinen siirtyi freelancekuvaajasta työsuhteiseksi\, ja aikakauslehdissä työskennellyt Sanna Wallenius vapaaksi toimittajaksi. Miksi he hakivat muutosta\, ja kuinka se on vaikuttanut toimeentuloon ja hyvinvointiin?\nPuheenvuorojen jälkeen jakaudumme freelancereiden ja työsuhteisten sekaryhmiin keskustelemaan työn arjesta. Pääset kuulemaan muiden kokemuksia muuan muassa työmäärästä ja sen hallinnasta\, vapaista ja lomista\, terveydestä ja työssä jaksamisesta. Lopuksi puramme työpajojen havaintoja yhdessä keskustellen.\nTörmäyskurssin järjestävät yhteistyössä Helsingin Seudun Journalistit ja Suomen freelance-journalistit. Kokoonnumme Suomen Journalistiliiton uudelle toimistolle Hakaniemen Ympyrätaloon. Tilaisuus on maksuton ja tarjolla on iltapalaa.\nIlmoittautuminen päättyy 13.11. Tilaisuuteen on 23 paikan kiintiö molempien yhdistysten jäsenille. Varaa paikkasi yhdistyksesi mukaan (SFJ tai HSJ) puhujien esittelyiden alta. Myös jonoon kannattaa ilmoittautua vapautuvien paikkojen varalta.\nLämpimästi tervetuloa!\n \nOhjelma\n17.00 Tervetuloa! Esittäytymiskierros\nPuheenvuorot + yleisökysymykset:\n17.20 Ville-Veikko Kaakinen\n17.50 Sanna Wallenius\nTauko\n18.40 pienryhmäkeskustelut\n19.00 purku ja loppukeskustelu\nTilaisuus päättyy kello 20 mennessä.\n \nPuhujien esittelyt\nVille-Veikko Kaakinen (s. 1990) on Helsingin Sanomien valokuvaaja\, joka työskentelee HS:n Turun toimituksessa Kupittaalla. Ennen HS Turun pestiä hän työskenteli 5 vuotta freelancerinä useille Suomen suurimmille sanomalehdille\, ensin Tampereelta ja sitten Turusta käsin. Kuvaajana Ville nauttii erityisesti journalismista ja aika paljon henkilökuvista. \nSanna Wallenius (s. 1974) on työskennellyt toimittajana vuodesta 1993. Vakituisena toimittajana hän ehti olla 25 vuotta muun muassa Eevassa\, Me Naisissa\, Avussa ja Iltalehdessä. Freelanceriksi Sanna siirtyi kuusi vuotta sitten. Nykyinen työ koostuu lehtijuttujen lisäksi tietokirjoista\, valokuvauksesta\, kaupallisesta sisällöntuotannosta\, viestinnästä ja koulutuksista. Sanna toimii myös vierailevana opettajana Haaga-Helian ammattikorkeakoulussa\, jossa hän opettaa journalistiopiskelijoille markkinointia\, myyntiä ja yrittäjyyttä.
LOCATION:Journalistiliiton toimisto, Ympyrätalo\, Siltasaarenkatu 18 A 7
 krs.\, 00535\, Helsinki\, Suomi
URL:http://tapahtuma.hsj.fi/tormayskurssi
END:VEVENT
END:VCALENDAR
