BEGIN:VCALENDAR
METHOD:PUBLISH
VERSION:2.0
PRODID:-//Eventilla iCal Syndication//NONSGML Liana//EN
BEGIN:VEVENT
UID:vNkp9@eventilla.com
DTSTAMP:20250608T040000Z
DTSTART:20250608T040000Z
DTEND:20250608T163000Z
SUMMARY:HSJ:n kesäretki Seilin saarelle
DESCRIPTION:Seilaa Seilille HSJ:n kanssa!\n \nKokopäiväretki sunnuntaina 8.6.\n \nIlmoittautuminen retkelle on päättynyt. Lisätietoa:\n\nIlmoittautuneita oli enemmän kuin paikkoja (35)\, joten osallistujat arvottiin\nOsallistujille on lähetetty maksulinkki retken maksamista varten. Mikäli osallistumismaksua (48 euroa) ei maksa eräpäivään 21.5. mennessä\, paikkaa tarjotaan varasijalle jääneelle\nPaikkoja voidaan tarjota myös peruutustapauksissa\n\nHSJ toteuttaa pitkäaikaisen jäsentoiveen ja retkeilee kesäkuussa Seilin saarelle Nauvoon! Opastetulla kierroksella tutustumme saaren historiaan\, luontoon sekä saaren tutkimustoimintaan. Opastettu saarikierros on liikunnallinen eikä saari ole esteetön.\nSeilin historiaa leimaavat vuodet spitaalisten ja mielisairaiden hoitopaikkana. 1600- ja 1700-luvuilla saarelle sijoitetut sairaat elivät eristyksessä muusta maailmasta.\n1900-luvulla mielisairaala lakkautettiin ja tilat siirtyivät Turun yliopiston Saaristomeren tutkimuslaitoksen käyttöön. Saarella tehdään edelleen aktiivista tutkimusta keskittyen Saaristomeren ja Itämeren alueen monitieteelliseen tutkimukseen\, keskiössä meriympäristön tilan pitkäaikaisseuranta.\nKoko saari on luonnonsuojelualuetta\, ja siellä tavataan niin harvinaisia kasveja kuin luonnonvaraisia ja laiduntavia eläimiä. \nRetken vahvistettu ohjelma \n7.00 bussi lähtee Rautatietorin turistipysäkiltä (os. Mikonkatu 19)9.30 M/s Norrskär lähtee Turusta (os. Läntinen Rantakatu 37)Kahvit sekä sämpylä aluksella11.15 Saapuminen Seiliin ja opastettu saarikierros n. 1\,5 h 13.30 lounas\, Ravintola Seilin PianosaliOmaa tutustumista saarella15.30 Lähtö Seilistä\, M/s Norrskär17.15 Saapuminen Turkuun ja kotimatka bussilla19.30 (noin) saapuminen Helsinkiin\nRetken hinta\nHSJ:n tukema retken jäsenhinta 48 euroa sisältää bussi- ja laivamatkat\, kahvin ja sämpylän laivalla\, lounaspöydän sekä opastuksen saarella.\nHSJ tukee matkaa noin 50 prosentilla/osallistuja. \nTervetuloa mukaan!\nPeruutusehdot mukaan hyväksytyille osallistujille\n\nIlmoitathan esteestä mahdollisimman pian HSJ:n toimistoon. Voit perua osallistumisesi sunnuntaihin 25.5. saakka. Osallistumismaksu palautetaan\, mutta siitä vähennetään Eventillan palvelumaksu viisi euroa.\n25.5. jälkeen peruttu retki hyvitetään kokonaisuudessaan vain siinä tapauksessa\, että retkelle on jonoa ja tilalle saadaan toinen osallistuja. Tällöinkin palautuksesta vähennetään palvelumaksu.\nJos 25.5. jälkeen peruttaessa jonoa ei ole eikä osallistujan tilalle saada toista lähtijää\, osallistumismaksusta hyvitetään 50 % sairaustapauksessa kun perujalla on esittää sairaustodistus.\nLähtöä edeltävänä tai lähtöpäivänä tehtyä peruutusta / no show:ta ei hyvitetä.\n\nKuva: Visit Seili.\n 
LOCATION:Seili\, Suomi
URL:http://tapahtuma.hsj.fi/seili
END:VEVENT
END:VCALENDAR
