BEGIN:VCALENDAR
METHOD:PUBLISH
VERSION:2.0
PRODID:-//Eventilla iCal Syndication//NONSGML Liana//EN
BEGIN:VEVENT
UID:wJoQE@eventilla.com
DTSTAMP:20210421T140000Z
DTSTART:20210421T140000Z
DTEND:20210421T170000Z
SUMMARY:Valitse hyvin\, päätä paremmin
DESCRIPTION:Valitse hyvin\, päätä paremmin!\nKeskiviikkona 21.4. klo 17-20 Teams-webinaari\nValinta on voimakas työkalu niin työssä kuin oman elämän ratkaisuja tehdessä. Kirjoittaminen ja muu journalistinen työ ovat mitä suurimmassa määrin valintatyötä\, ja journalisti tekee valintoja aina myös muiden puolesta – esimerkiksi mitä aiheita ja millä tavalla niitä eri medioissa käsitellään.\nPsykologi ja tietokirjailija Satu Pihlaja ohjaa koulutuksessaan meitä tekemään hyviä valintoja ja omannäköisiä päätöksiä\, ei niitä\, joita muut meiltä odottavat. Aina voi valita toisin!\n\nSatu Pihlajalta on hiljattain ilmestynyt tietokirja Valinnan paikka (Atena\, 2021).\n \nSatu Pihlaja korostaa koulutuksessa\, kuinka päätöksen hetkellä on tärkeää\n\ntuntea itsensä\ntuntea aivojen ja muistin toiminta päätösten taustalla\ntiedostaa omien valintojen lähtökohdat ja taustat\netsiä rohkeasti uusia valinnanmahdollisuuksia\n\n \nKoulutuksessa opit\, miten valintakaaosta voi hallita\n\nrutiineilla\narvopohdinnalla\najankäyttöä suunnittelemalla\ntiedostamalla valinnan paikan tässä ja nyt\n\n \nKoulutuksen aikana tehdään harjoituksia ja halutessasi voit tehdä etukäteen arvoharjoituksen\, joka lähetetään ilmoittautuneille. Harjoitus ohjaa sinua havaitsemaan\, mitkä asiat ovat juuri sinulle tärkeitä tehdessäsi valintoja.\n \n\nÄlä vaivu päättämättömyyden tai negatiivisuusharhan ansaan\, vaan ilmoittaudu mukaan!\n
LOCATION:Teams-webinaari
URL:http://tapahtuma.hsj.fi/event/wJoQE
END:VEVENT
END:VCALENDAR
