BEGIN:VCALENDAR
METHOD:PUBLISH
VERSION:2.0
PRODID:-//Eventilla iCal Syndication//NONSGML Liana//EN
BEGIN:VEVENT
UID:wJol5@eventilla.com
DTSTAMP:20191113T150000Z
DTSTART:20191113T150000Z
DTEND:20191113T170000Z
SUMMARY:Lisää tehokkuuttasi!
DESCRIPTION:Tiedon- ja projektinhallintakoulutus\nLisää tehokkuuttasi ja auta muistiasi! \n\n\nke 13.11. kl 17-19 (jonotuspaikkoja jäljellä)\n\n\nto 21.11. kl 17-19 (varapäivä) -> siirtyy myöhemmäksi\n\n\nJärjestä tietosi ja projektisi excel-taulukoinnin avulla!Kouluttaja\, kokenut journalisti ja kirjailija Markus Leikola käy lyhyesti lävitse taulukkolaskentaohjelman perusteet\, jotta kokemattomatkin pääsevät jyvälle.Näemme myös\, miten Leikola organisoi romaaninsa henkilöt ja tapahtumat sekä radio-ohjelmasarjan tuotannon eri vaiheet excelin avulla.\nTavoitteena on\, että kurssin jälkeen\n\n\nOlet perehtynyt laajojen aineistojen tiedon- ja projektinhallintaan\n\n\nOsaat suunnitella excelin avulla projekteja sekä visualisoida ja tuoda esiin sen eri aikatasoja.\n\n\nTiedät\, miten esimerkiksi värien\, tummennusten ja zoomauksien avulla merkitään ja tutkitaan projektin keskeisiä asioita.\n\n\nOlet oppinut käyttämään metadataa eli tietoa tiedosta ja opit seuraamaan projektisi etenemistä.\n\n\nPystyt siirtämään taulukon Google Driveen ja työskentelemään muiden kanssa pilvipalvelussa.Hinta: 15 euroa. Opiskelijajäseniltä ja työttömiltä 10 euroa.Kysy työntajaltasi\, maksaako se tämän huippuhyödyllisen kurssin.Tervetuloa!\n\n
LOCATION:Hotelli Presidentti\, Eteläinen Rautatiekatu 4\, 00100\,
 Helsinki
URL:http://tapahtuma.hsj.fi/event/wJol5
END:VEVENT
END:VCALENDAR
