BEGIN:VCALENDAR
METHOD:PUBLISH
VERSION:2.0
PRODID:-//Eventilla iCal Syndication//NONSGML Liana//EN
BEGIN:VEVENT
UID:wk3qD@eventilla.com
DTSTAMP:20250225T150000Z
DTSTART:20250225T150000Z
DTEND:20250225T183000Z
SUMMARY:HSJ:n ylimääräinen yleiskokous
DESCRIPTION:KUTSU \nHelsingin Seudun Journalistit ry:n ylimääräinen yleiskokous pidetään tiistaina 25. helmikuuta 2025 kello 17 alkaen Hotelli Presidentissä (Eteläinen Rautatiekatu 4\, Helsinki).\nKokous kutsutaan koolle päättämään\, asettaako yhdistys liiton puheenjohtajavaaliin oman ehdokkaan\, ja jos niin kenet - vai asetummeko jonkin muun SJL:n yhdistyksen ehdokkaan taakse.\nLiiton puheenjohtajan valitsee 14. maaliskuuta 2025 pidettävä ylimääräinen valtuuston kokous. Puheenjohtaja valitaan Hanne Ahon kesken jääneen kauden loppuajaksi eli vuoden 2026 loppuun.\n\nTarjoilujen vuoksi kokoukseen edellytetään ennakkoilmoittautumista. Ilmoittautumiset viimeistään tiistaina 11. helmikuuta 2025.\nJäsenen\, jolla ei ole jäsenkorttia\, pitää muulla luotettavalla tavalla todistaa henkilöllisyytensä\, jotta jäsenyys voidaan tarkistaa jäsenrekisteristä.\nÄänestys- ja puheenvuoropyyntölaput jaetaan kokouspaikalla.\nTarjolla on suolainen iltapala ennakkoon ilmoittautuneille kello 16.30 alkaen (suolainen piirakka\, salaatti\, vesi\, kahvi). Ilmoittautumisten perusteella arvioimme myös tarvittavan tilan suuruuden.\n\nTervetuloa!\nHelsingin Seudun Journalistit ry:n hallitus\n***********\nHSJ:n ylimääräinen yleiskokous 25.2.2025 \nASIALISTA \n\nKokouksen avaus\nKokouksen laillisuus ja päätösvaltaisuus\nEsityslista\nKokouksen järjestäytyminena) Puheenjohtajien (2) valintab) Sihteerien (2) valintac) Ääntenlaskijoiden (3) valintad) Pöytäkirjantarkastajien (2) valinta\nKeskustelu HSJ:n ehdokkaasta Journalistiliiton puheenjohtajaksi\nMuut mahdolliset asiat\nKokouksen päättäminen\n\n-----\nJos ilmoittautumisaika on päättynyt\, mutta osallistuisit kokoukseen\, laita viestiä jaana.virtanen@hsj.fi
LOCATION:Hotelli Presidentti, Sylvi-sali\, Eteläinen Rautatiekatu 4\,
 00100\, Helsinki
URL:http://tapahtuma.hsj.fi/ylimaarainen_yleiskokous_250225
END:VEVENT
END:VCALENDAR
