BEGIN:VCALENDAR
METHOD:PUBLISH
VERSION:2.0
PRODID:-//Eventilla iCal Syndication//NONSGML Liana//EN
BEGIN:VEVENT
UID:y6zGp@eventilla.com
DTSTAMP:20250326T160000Z
DTSTART:20250326T160000Z
DTEND:20250326T183000Z
SUMMARY:HSJ:n vuosikokous 2025
DESCRIPTION:Helsingin Seudun Journalistit ry:n sääntömääräinen \nVUOSIKOKOUS\npidetään Hotelli Presidentissä (Eteläinen Rautatiekatu 4\, Helsinki)keskiviikkona 26.3.2025 kello 18.Kokouksessa käsitellään yhdistyksen sääntöjen pykälän 23 edellyttämät asiat ja HSJ:n hallituksen täydentäminen. Lisäksi käsitellään Aikakauslehdentoimittajain Säätiön hallituksen täydennysvaali ja tilintarkastajien valinta.- Kokoukseen edellytetään ilmoittautumista ennakkoon. Ilmoittaudu viimeistään tiistaina 18.3.2025.- Ennakkoon ilmoittautuneille on tarjolla iltapala kello 17 alkaen.- Jäsenen\, jolla ei ole jäsenkorttia\, pitää muulla luotettavalla tavalla todistaa henkilöllisyytensä\, jotta jäsenyys voidaan tarkistaa jäsenrekisteristä. - Äänestys- ja puheenvuoropyyntölaput jaetaan kokouspaikalla. - Jäsenistöä pyydetään ottamaan mukaan Lööppi 1/2025\, jossa on vuosikokousasiakirjat (Lööppi ilmestyy maaliskuussa).- Vuosikokouksessa jaetaan Salli-journalistipalkinto- Liiton ajankohtaisista asioista kertoo edunvalvontajohtaja Petri Savolainen.\nTervetuloa!Helsingin Seudun Journalistit ry:n hallitus \n-----\nJos ilmoittautumisaika on päättynyt\, mutta osallistuisit kokoukseen\, laita viestiä jaana.virtanen@hsj.fi
LOCATION:Hotelli Presidentti, Sylvi-sali\, Eteläinen Rautatiekatu 4\,
 00100\, Helsinki
URL:http://tapahtuma.hsj.fi/vuosikokous2025
END:VEVENT
END:VCALENDAR
