BEGIN:VCALENDAR
METHOD:PUBLISH
VERSION:2.0
PRODID:-//Eventilla iCal Syndication//NONSGML Liana//EN
BEGIN:VEVENT
UID:yWV0o@eventilla.com
DTSTAMP:20210908T140000Z
DTSTART:20210908T140000Z
DTEND:20210908T170000Z
SUMMARY:Saavutettavuus
DESCRIPTION:Meneekö sanomasi perille?\nkeskiviikko 8.9. klo 17–20Original Sokos Hotel Presidentti\, Eteläinen Rautatiekatu 4\, Helsinki\nOnko sanomasi kaikkien saavutettavissa ja viestisi helposti ymmärrettävä? Miten parantaa saavutettavuutta vaikkapa liitetiedostojen\, tekstitysten\, ALT-tekstien\, kuvien kontrastien\, infograafien\, videoiden ja webinaarien tekemisessä?\nSaavutettavuuden varmistaminen tekee jutuista\, viesteistä ja oppimateriaaleista kaikille selkeitä ja helposti lähestyttäviä!\nSaavutettavuuskoulutuksessa opimme\, millainen sisältö on mahdollisimman hyvin erilaisten vastaanottajien saavutettavissa olivatpa he sitten aistivammaisia\, lukihäiriöisiä tai vieraskielisiä. \nKoulutuksessa käsitellään seuraavia asioita:\n\nsaavutettavuuden sääntely (julkista sektoria koskeva digipalvelulaki\, tuleva esteettömyysdirektiivi)\nsisältöjä koskevat saavutettavuusvaatimukset kuten  verkkosisällön saavutettavuusohjeet eli WCAG-kriteerit ja niiden tulkinta\nmillainen verkkosisältö on saavutettavaa: käyttäjien tarpeet ja näkökulmat\nkuvat ja tiedon visualisointi saavutettavuuden näkökulmasta: vaihtoehtoiset tekstit ja vaihtoehdot vaihtoehtoiselle tekstille\, värien käyttö\, kontrastit\nsaavutettavuuden huomiointi aikasidonnaisessa mediassa eli videoissa ja äänittessä\nverkkojulkaisujen ja tiedostojen saavutettavuus\nsaavutettava viestiminen sosiaalisen median kanavissa\nkuinka huomioida kognitiivinen saavutettavuus\n\nKouluttajina toimivat Celian saavutettavuusasiantutijat Miia Kirsi ja Kirsi Ylänne. Celia on saavutettavan kirjallisuuden ja julkaisemisen asiantuntija\, joka tukee yhdenvertaisuutta lukemisessa ja oppimisessa.\nCelia on osa opetus- ja kulttuuriministeriön hallinnonalaa.\nKäytämme tilaisuudessa maskia ja käsidesiä ynnä pidämme 2 metrin etäisyydet. Koronarajoitusten vuoksi tilaisuuteen otetaan vain 20 osallistujaa\, joten ilmoittaudu heti alla olevasta linkistä.\nTämä koulutus on maksullinen:\n\n 25 euroa työsuhteiset\, freelancerit\, eläkeläiset\n 10 euroa työttömät ja opiskelijat\n\nLippu valitaan ilmoittautumisen yhteydessä. Maksua varten tarvitset pankkitunnukset tai puhelimen mobiilipankkisovelluksen.\nHintaan sisältyy ennen koulutusta tarjottava kahvi/tee ja sämpylä.\nHSJ tukee jäsentensä osallistumista maksullisiin koulutuksiin ja tapahtumiin vähintään 40 prosentilla. Muistathan\, että työnantajalta voi tiedustella osallistumista ammatillisen koulutuksen kustannuksiin.\nTervetuloa!
LOCATION:Sokos Hotel Presidentti\, Eteläinen Rautatiekatu 4\, 00100\,
 Helsinki
URL:http://tapahtuma.hsj.fi/event/yWV0o
END:VEVENT
END:VCALENDAR
