BEGIN:VCALENDAR
METHOD:PUBLISH
VERSION:2.0
PRODID:-//Eventilla iCal Syndication//NONSGML Liana//EN
BEGIN:VEVENT
UID:yWV3o@eventilla.com
DTSTAMP:20220523T140000Z
DTSTART:20220523T140000Z
DTEND:20220523T160000Z
SUMMARY:HSJ höntsä: pesäpallo
DESCRIPTION:HSJ-höntsät jatkuvat! Tervetuloa kokeilemaan\npesäpalloa Roihuvuoren kentälle maanantaina 23.5. kello 17–19\nMilloin viimeksi tartuit mailaan ja räpylään? Tiesitkö\, että pääkaupunkiseudullakin pelataan Superpesistä?\nSuomen kansallislaji pesäpallo täyttää tänä vuonna 100 vuotta. Tule kokeilemaan\, miltä pallon pamauttaminen tuntuu uusitulla Roihuvuoren stadionilla! Oppia saamme naisten korkeimmalla sarjatasolla pelaavilta Roihuttarilta heidän kotikentällään. Samalla kuulemme seuran toiminnasta ja pesäpalloilijan elämästä. Kaikki osallistujat palkitaan vapaalipulla Roihuttarien kotiotteluun\, joka on voimassa koko kauden.\nViime vuonna Superiin nousseen Roihuttarien kotipelit kiinnostivat yleisöä hyvin ja kentällä nautittiin aidosta urheilun ilosta. Kesän otteluohjelmaan voi tutustua seuran kotisivuilla. Roihu on liikuttanut lapsia\, nuoria ja aikuisia jo vuodesta 1957 lähtien.\nVarustus\nVaraa yllesi reippailuun sopivat ulkoliikuntavaatteet ja lenkkikengät. Juomapullot saamme Roihun puolesta. Huolehdi siitä\, ettet lähde höntsään nälkäisenä\, pientä evästäkin voi varata mukaan. Pelivälineet (mailta\, räpylät\, pallot\, suojat) lainaa Roihu.\nSaapuminen\nRoihuvuoreen voi saapua omalla kulkuneuvolla\, mutta kentälle pääsee myös julkisilla yhteyksillä n. puolessa tunnissa Helsingin keskustasta. Ota M2-metro Herttoniemeen ja Herttoniemen asemalta bussi 80 tai 82\, pysäkki Porolahden koulu. Pesäpallokenttä on aivan koulun vieressä. Herttoniemen metroasemalta on vajaa 2 km kävelymatka kentälle. Etsi sinulle sopiva yhteys jo etukäteen HSL:n reittioppaasta.\nSaat tarkemmat saapumis- ym. ohjeet minulta vielä lähempänä höntsäpäivää.\n--\nHöntsissä tutustumme erilaisiin urheilulajeihin ammattilaisten tai aktiivisten harrastajien avulla vailla tulostavoitteita. Tärkeintä on hyväntuulinen pelailu\, erilaisten lajien kokeilu ja yhdessä liikkuminen. Aiempaa harrastuneisuutta tai pelitaustaa ei tarvita. Jokainen höntsäkerta on itsenäinen ja sille ilmoittaudutaan erikseen.
LOCATION:Roihuvuoren kenttä\, Satumaanpolku 4\, 00820\, Helsinki
URL:http://tapahtuma.hsj.fi/event/yWV3o
END:VEVENT
END:VCALENDAR
