BEGIN:VCALENDAR
METHOD:PUBLISH
VERSION:2.0
PRODID:-//Eventilla iCal Syndication//NONSGML Liana//EN
BEGIN:VEVENT
UID:yWVow@eventilla.com
DTSTAMP:20230610T070000Z
DTSTART:20230610T070000Z
DTEND:20230610T130000Z
SUMMARY:Kesäretki Isosaareen
DESCRIPTION:Kesäretki Isosaareen\nlauantaina 10.6. kello 10–16\nLähde mukaan HSJ:n päiväretkelle Isosaareen! Helsingin edustalla sijaitsevan saaren sanotaan olevan parhaimmillaan kesäkuun alussa\, kun kaikki on vielä vaaleanvihreää. Luontoarvojen lisäksi Isosaarella on mielenkiintoinen sotilashistoria. Isosaari linnoitettiin 1880-luvulla osana Suomenlinnan laajennustöitä ja oli suljetussa sotilaskäytössä vuoteen 2017 saakka. Sisällissodan jälkeen saaressa toimi punavankileiri.\nPäiväretki sisältää laivamatkat Helsingin Kauppatorilta\, opastuksen saaren historiaan ja luontoon sekä lohi- tai hernekeittolounaan Upseerikerholla. Opastus sisältää käynnin Torpedokoeasemalla\, jonne pääsee vain opastettuna. Ohjelman lisäksi saarella on vapaata aikaa ja mahdollisuus saunoa sekasauna Haapalassa.Retki on erityinen tilaisuus\, koska saarelle on reittiliikennettä kesäkuun alkupuolella vain viikonloppuisin ja vain kerran päivässä. HSJ:läisille on varattu saaren päivittäisestä 60 retkeläisen kiintiöstä 35 paikkaa. Retken yhteistyökumppani on saaren toiminnoista vastaava FRS Finland.\nRetken jäsenhinta on 30 euroa. HSJ tukee retkikustannuksia reilulla 40 prosentilla.\nRetken aikataulu on alla. Matkaamme saareen vesibussi m/s Viaporilla. Se lähtee Helsingin Kauppatorilta Lyypekinlaiturista\, jonne on opastus täällä. Lähtö on kello 10. Tulethan ajoissa!\n10.00 Lähtö Kauppatorilta10.45 Saapuminen Isosaareen10.45–12.30 Opastus\, sisältäen käynnin Torpedokoeasemalla12.30–13.30 Lounas Upseerikerholla\, lohikeitto tai hernekeitto13.30–15.15 Vapaata aikaa. Sauna lämmin.15.15 Paluulähtö Isosaaresta16:00 Paluu KauppatorilleIlmoittaudu viimeistään 31.5. Tervetuloa!
LOCATION:Helsingin Kauppatori\, Eteläranta\, 00170\, Helsinki
URL:http://tapahtuma.hsj.fi/event/yWVow
END:VEVENT
END:VCALENDAR
