BEGIN:VCALENDAR
METHOD:PUBLISH
VERSION:2.0
PRODID:-//Eventilla iCal Syndication//NONSGML Liana//EN
BEGIN:VEVENT
UID:yWVqo@eventilla.com
DTSTAMP:20201012T140000Z
DTSTART:20201012T140000Z
DTEND:20201012T160000Z
SUMMARY:Vierailu Urheilumuseoon\, vieraana Annimari Korte
DESCRIPTION:Urheilun monet tunteet - vierailu uudistettuun Urheilumuseoon\nHSJ:n museovieraana aitajuoksija Annimari Korte\n \nMA 12.10. KLO 17-19PAAVO NURMENTIE 1\, 00250 HELSINKI\n \nLähde mukaan tutustumaan uudistettuun Urheilumuseoon\, kokemaan urheilun tunteita: tuskaa\, pettymyksiä ja voitonriemua.\nSaamme aistia vuoden 1952 olympialaisten huippuhetket videoteatterissa.Tutustumme tiensä tähtiin raivanneisiin\, suomalaisiin urheilusankareihin.\nHistorian ja rakastettujen perinnelajien ohella tähyämme vuoren huipulle\,kesytämme koskia ja kurkistamme elektronisen urheilun maailmaan.\n \nHSJ:n matkassa museovierailulla on huippuaituri Annimari Korte.Vuoden positiivisimmaksi suomalaiseksi valittu urheilija ja urheilutoimittaja jakaa omia ajatuksiaan urheilun nostattamista tunteista ja urheilujournalismista.\n \nMuseovierailulla huomoimme turvallisuuden ja koronasuositukset. Opastettu kierros toteutetaan usean oppaan johdolla\, pienissä ryhmissä.\nMaksimiosallistujamäärä on 60 henkilöäVaraa paikkasi ajoissa! 
LOCATION:Olympiastadion\, Paavo Nurmentie 1\, 00250\, Helsinki
URL:http://tapahtuma.hsj.fi/event/yWVqo
END:VEVENT
END:VCALENDAR
