BEGIN:VCALENDAR
METHOD:PUBLISH
VERSION:2.0
PRODID:-//Eventilla iCal Syndication//NONSGML Liana//EN
BEGIN:VEVENT
UID:zAVKd@eventilla.com
DTSTAMP:20220302T150000Z
DTSTART:20220302T150000Z
DTEND:20220302T180000Z
SUMMARY:Luovan työryhmän ohjaaminen
DESCRIPTION:Onnistu ja inspiroidu: näin ohjaat luovaa työryhmää\nkeskiviikkona 2.3. klo 17–20Original Sokos Hotel Presidentti\, Eteläinen Rautatiekatu 4\, Helsinki\nLuovien työryhmien vetäjän tehtävä on vaativa. Oletko joutunut ohjaamaan työryhmää ilman esimieskoulutusta? Vaihtuvatko työryhmät projektin mukaan? Miten tulisi toimia ristiriitatilanteissa?\nOnnistu ja inspiroidu työryhmän ohjaajana -työpajan jälkeen:\n• osaat luovaa työtä tekevän ryhmän johtamisen perusperiaatteet• tiedät miten ristiriitatilanteita tulee lähestyä ja käsitellä• saat varmuutta\, hallitset ja selviydyt vaativistakin esihenkilötilanteista• saat inspiraatiota esihenkilönä tai ryhmänvetäjänä kehittymiseen• saat työkaluja tunteiden tunnistamiseen ja säätelyyn\nKoulutus on suunnattu erilaisten työryhmien vetäjille kuten tuottajille\, kustannustoimittajille\, viestijöille\, AD:eille ja  toimituspäälliköille. Se sopii myös ryhmätyötaitojaan kehittäville työryhmän jäsenille ja esimiestehtäviin tähtääville.\n\nKouluttajamme on työnohjaaja ja valmentaja Kaisa Koivunoro. Hän on työnohjannut ja valmentanut useilla eri organisaation tasoilla sekä yksilöitä että ryhmiä: toimittajia\, tuottajia\, näyttelijöitä\, projektipäällikköitä\, lääkäreitä\, poliiseja\, maanviljelijöitä\, vanginvartijoita ja liiketoimintajohtajia.\nTämä koulutus on maksullinen:\n\n 25 euroa työsuhteiset\, freelancerit\, eläkeläiset\n 10 euroa työttömät ja opiskelijat\n\nLippu valitaan ilmoittautumisen yhteydessä. Maksua varten tarvitset pankkitunnukset tai puhelimen mobiilipankkisovelluksen.\nJos kurssi tulee täyteen\, kannattaa ilmoittautua jonoon. Kurssille on varattu varapäivä 27.4. Kurssi uusitaan\, jos jonottajia on tarpeeksi.\nHSJ tukee jäsentensä osallistumista maksullisiin koulutuksiin ja tapahtumiin vähintään 40 prosentilla. Muistathan\, että työnantajalta voi tiedustella osallistumista ammatillisen koulutuksen kustannuksiin.\nKoronaohjeet: Käytämme tilaisuudessa maskia ja käsidesiä. Tiedotamme Hotelli Presidentin antamista koronaohjeista ilmoittautuneille. Jos koronatilanne muuttuu\, valmistaudumme pitämään tilaisuuden etänä tai siirtämään sen sopivaan ajankohtaan.\nTervetuloa!
LOCATION:Sokos Hotel Presidentti\, Eteläinen Rautatiekatu 4\, 00100\,
 Helsinki
URL:http://tapahtuma.hsj.fi/event/zAVKd
END:VEVENT
END:VCALENDAR
